BEGIN:VCALENDAR
VERSION:2.0
PRODID:-//Fachstelle Antidiskriminierungsberatung - ECPv6.15.20//NONSGML v1.0//EN
CALSCALE:GREGORIAN
METHOD:PUBLISH
X-ORIGINAL-URL:https://fachstelle.antidiskriminierung.org
X-WR-CALDESC:Veranstaltungen für Fachstelle Antidiskriminierungsberatung
REFRESH-INTERVAL;VALUE=DURATION:PT1H
X-Robots-Tag:noindex
X-PUBLISHED-TTL:PT1H
BEGIN:VTIMEZONE
TZID:Europe/Berlin
BEGIN:DAYLIGHT
TZOFFSETFROM:+0100
TZOFFSETTO:+0200
TZNAME:CEST
DTSTART:20240331T010000
END:DAYLIGHT
BEGIN:STANDARD
TZOFFSETFROM:+0200
TZOFFSETTO:+0100
TZNAME:CET
DTSTART:20241027T010000
END:STANDARD
BEGIN:DAYLIGHT
TZOFFSETFROM:+0100
TZOFFSETTO:+0200
TZNAME:CEST
DTSTART:20250330T010000
END:DAYLIGHT
BEGIN:STANDARD
TZOFFSETFROM:+0200
TZOFFSETTO:+0100
TZNAME:CET
DTSTART:20251026T010000
END:STANDARD
BEGIN:DAYLIGHT
TZOFFSETFROM:+0100
TZOFFSETTO:+0200
TZNAME:CEST
DTSTART:20260329T010000
END:DAYLIGHT
BEGIN:STANDARD
TZOFFSETFROM:+0200
TZOFFSETTO:+0100
TZNAME:CET
DTSTART:20261025T010000
END:STANDARD
END:VTIMEZONE
BEGIN:VEVENT
DTSTART;VALUE=DATE:20250428
DTEND;VALUE=DATE:20250430
DTSTAMP:20260421T212657
CREATED:20250313T093021Z
LAST-MODIFIED:20250313T135112Z
UID:10000373-1745798400-1745971199@fachstelle.antidiskriminierung.org
SUMMARY:Modul: Positionierung\, beraterische Haltung\, Selbstfürsorge und Grenzen setzen
DESCRIPTION:Der Antidiskriminierungsverband Deutschland (advd) lädt im Rahmen des Projektes „Community-basierte Beratung“ zu einem Modul mit dem Thema „Positionierung\, beraterische Haltung\, Selbstfürsorge und Grenzen setzen“ ein. \nDie Veranstaltung richtet sich an angehende unabhängige Berater*innen\, die in zivilgesellschaftlichen Beratungsstellen tätig sind – bevorzugt mit einem Fokus auf Rassismus und Antirassismus. Dabei wird eine Reflexion über die eigene gesellschaftliche Position als (ggf. peer-to-peer) Antirassismus-Berater*in – im Team\, in der Organisation und im Community-Kontext angestrebt. Ziel ist eine machtkritische Auseinandersetzung mit der eigenen beraterischen Rolle und den Grenzen dieser Tätigkeit im Verhältnis zur ratsuchenden Person. \nZielgruppe:\nDas Modul richtet sich an angehende unabhängige Berater*innen\, die in zivilgesellschaftlichen Beratungsstellen tätig sind – bevorzugt mit einem Fokus auf Rassismus und Antirassismus. \nHinweis:\nDieses Modul ist eines der obligatorischen Module im Rahmen des Verbundszertifikats Community-basierte Antirassismusberatung (Laufzeit 2023–2025). Daher haben Beraterinnen der Projektpartnerinnen bei der Auswahl Vorrang. \nAnmeldung & Auswahlverfahren:\nInteressierte können bis zum 20. März 2025 mit diesem Formular Online eine Anmeldungsanfrage schicken. Nach der Anmeldung erfolgt eine Bestätigung der Teilnahme. \nVeranstaltungsdetails:\nDatum: 28.–29. April 2025\nZeit: 9-17 Uhr\nOrt: Präsenzveranstaltung in Halle (Saale) \nDas Modul wird im Rahmen des Modellprojekts “Von Betroffenen zu Akteur:innen – Stärkung von Community-basierten Antirassismus-/Antidiskriminierungs-Beratungsstrukturen (CbB)” angeboten\, was von der Beauftragten der Bundesregierung für Antirassismus gefördert ist.
URL:https://fachstelle.antidiskriminierung.org/veranstaltung/modul-positionierung-ber-haltung/
LOCATION:Berlin
CATEGORIES:kostenlos,Modul,Präsenzveranstaltung,Workshop
END:VEVENT
END:VCALENDAR