BEGIN:VCALENDAR
VERSION:2.0
PRODID:-//Fachstelle Antidiskriminierungsberatung - ECPv6.15.20//NONSGML v1.0//EN
CALSCALE:GREGORIAN
METHOD:PUBLISH
X-ORIGINAL-URL:https://fachstelle.antidiskriminierung.org
X-WR-CALDESC:Veranstaltungen für Fachstelle Antidiskriminierungsberatung
REFRESH-INTERVAL;VALUE=DURATION:PT1H
X-Robots-Tag:noindex
X-PUBLISHED-TTL:PT1H
BEGIN:VTIMEZONE
TZID:Europe/Berlin
BEGIN:DAYLIGHT
TZOFFSETFROM:+0100
TZOFFSETTO:+0200
TZNAME:CEST
DTSTART:20230326T010000
END:DAYLIGHT
BEGIN:STANDARD
TZOFFSETFROM:+0200
TZOFFSETTO:+0100
TZNAME:CET
DTSTART:20231029T010000
END:STANDARD
BEGIN:DAYLIGHT
TZOFFSETFROM:+0100
TZOFFSETTO:+0200
TZNAME:CEST
DTSTART:20240331T010000
END:DAYLIGHT
BEGIN:STANDARD
TZOFFSETFROM:+0200
TZOFFSETTO:+0100
TZNAME:CET
DTSTART:20241027T010000
END:STANDARD
BEGIN:DAYLIGHT
TZOFFSETFROM:+0100
TZOFFSETTO:+0200
TZNAME:CEST
DTSTART:20250330T010000
END:DAYLIGHT
BEGIN:STANDARD
TZOFFSETFROM:+0200
TZOFFSETTO:+0100
TZNAME:CET
DTSTART:20251026T010000
END:STANDARD
END:VTIMEZONE
BEGIN:VEVENT
DTSTART;TZID=Europe/Berlin:20241203T100000
DTEND;TZID=Europe/Berlin:20241203T123000
DTSTAMP:20260421T210845
CREATED:20241118T094212Z
LAST-MODIFIED:20241118T094212Z
UID:10000357-1733220000-1733229000@fachstelle.antidiskriminierung.org
SUMMARY:Info-Workshop zur Handreichung "Rechtsdienstleistung in der AD-Beratung"
DESCRIPTION:Der advd hat in diesem Jahr eine Handreichung zum Thema „Rechtsdienstleistung in der AD-Beratung“ veröffentlicht. Darin geht es um die Frage\, inwiefern Rechtsberatung Teil der Antidiskriminierungsberatung ist und unter welchen Voraussetzungen dies erlaubt ist. \nAm Dienstag den 3.12. findet von 10 bis 12.30 Uhr ein Info-Workshop statt\, in dem der Inhalt der Handreichung nochmal zusammengefasst wird und die Möglichkeit besteht\, Fragen dazu zu stellen. Im Anschluss wird es Zeit geben für Austausch zur Bedeutung für die Beratungspraxis und zur praktischen Umsetzung der rechtlichen Vorgaben. Der Workshop wird von Kerstin Kühn (Rechtsanwältin und frühere Antidiskriminierungsberaterin) und Hamza Barashed (Referent*in rechtlicher Diskriminierungsschutz\, advd) durchgeführt. \nAnmeldung per Mail an hamza.barashed@antidiskriminierung.org bis zum 27.11.
URL:https://fachstelle.antidiskriminierung.org/veranstaltung/info-workshop-zur-handreichung-rechtsdienstleistung-in-der-ad-beratung/
LOCATION:Online
END:VEVENT
BEGIN:VEVENT
DTSTART;TZID=Europe/Berlin:20241204T093000
DTEND;TZID=Europe/Berlin:20241204T123000
DTSTAMP:20260421T210845
CREATED:20240711T214459Z
LAST-MODIFIED:20241030T112229Z
UID:10000287-1733304600-1733315400@fachstelle.antidiskriminierung.org
SUMMARY:Öffentlichkeitsarbeit & Advocacy (Input + Q&A)
DESCRIPTION:Im Rahmen der Online-Austauschreihe Strukturaufbau werden Themen behandelt\, die für den Aufbau von Beratungsstellen und Strukturen besonderen Belang haben. Heute: Öffentlichkeitsarbeit & Advocacy
URL:https://fachstelle.antidiskriminierung.org/veranstaltung/oeffentlichkeitsarbeit-advocacy-input-qa/
LOCATION:Online
CATEGORIES:online,kostenlos,Workshop
END:VEVENT
BEGIN:VEVENT
DTSTART;TZID=Europe/Berlin:20241205T090000
DTEND;TZID=Europe/Berlin:20241206T170000
DTSTAMP:20260421T210845
CREATED:20240711T214551Z
LAST-MODIFIED:20240826T145140Z
UID:10000329-1733389200-1733504400@fachstelle.antidiskriminierung.org
SUMMARY:Außergerichtliche Interventionen II und Kollegiale Fallberatung
DESCRIPTION:Bei diesem Modul wird das Thema „Außergerichtliche Interventionen“ weitergeführt – dieses mal mit dem Schwerpunkt auf noch eine zweite sehr typische Interventionsmöglichkeit: Vermittlungsgespräch. Communities haben häufig viel Erfahrung mit der Begleitung ihrer Mitglieder zu verschiedenen Terminen. Hier wird der Fokus auf die vermittelnde Konfrontation mit den Menschen und Institutionen gelegt\, die der ratsuchenden Person diskriminiert haben. Vorbereitungs- und Kommunikationstechniken werden dabei auch eingeführt und geübt.
URL:https://fachstelle.antidiskriminierung.org/veranstaltung/m6b-aussergerichtliche-interventionen-ii/
LOCATION:Berlin
CATEGORIES:online,kostenlos,Workshop
END:VEVENT
BEGIN:VEVENT
DTSTART;TZID=Europe/Berlin:20241218T110000
DTEND;TZID=Europe/Berlin:20241218T130000
DTSTAMP:20260421T210845
CREATED:20241125T105624Z
LAST-MODIFIED:20241125T105725Z
UID:10000358-1734519600-1734526800@fachstelle.antidiskriminierung.org
SUMMARY:Paneldiskussion anlässlich der Veröffentlichung der Publikation „Antidiskriminierung an Hochschulen – Lernen\, Vernetzen\, Handeln“
DESCRIPTION:Details der Veranstaltung: \nDatum: Mittwoch\, 18. Dezember 2024 \nUhrzeit: 11:00 bis 13:00 Uhr \nLink: https://us02web.zoom.us/j/87162013787 \n  \nÜber die Paneldiskussion: \nGemeinsam mit den Autor*innen der Publikation werden zentrale Erkenntnisse und Erfahrungen aus den advd-Qualifizierungsmaßnahmen im Rahmen des Kompetenznetzwerks Antidiskriminierung (KNAD) präsentiert und diskutiert. Die Teilnehmenden sind eingeladen\, sich mit den Expert*innen auszutauschen und ihre Fragen zu stellen. \nDie Veranstaltung richtet sich an Interessierte aus dem Hochschulbereich\, Expert*innen im Bereich Antidiskriminierung sowie an alle\, die sich für nachhaltige Maßnahmen gegen Diskriminierung an Hochschulen einsetzen möchten. \n  \nProgramm: \n\nBegrüßung und Vorstellung der Publikation\nFragen an die Autor*innen: Erkenntnisse\, Herausforderungen\, Bedarfe und Chancen der AD-Beratung an Hochschulen\nModerierte Diskussion und Q&A mit dem Publikum\nAbschluss und Ausblick
URL:https://fachstelle.antidiskriminierung.org/veranstaltung/paneldiskussion-anlaesslich-der-veroeffentlichung-der-publikation-antidiskriminierung-an-hochschulen-lernen-vernetzen-handeln/
LOCATION:Online
END:VEVENT
BEGIN:VEVENT
DTSTART;TZID=Europe/Berlin:20241218T140000
DTEND;TZID=Europe/Berlin:20241218T160000
DTSTAMP:20260421T210845
CREATED:20241021T115636Z
LAST-MODIFIED:20241021T115657Z
UID:10000356-1734530400-1734537600@fachstelle.antidiskriminierung.org
SUMMARY:Netzwerktreffen Antidiskriminierung
DESCRIPTION:Liebe Mitglieder des Netzwerks Antidiskriminierung Braunschweig\, liebe Interessierte\, \ndas nächste Netzwerktreffen Antidiskriminierung findet am Mittwoch\, den 18. Dezember um 14 Uhr in der Volkshochschule Braunschweig in der Alten Waage 15 im 4. Stock statt.
URL:https://fachstelle.antidiskriminierung.org/veranstaltung/netzwerktreffen-antidiskriminierung/
LOCATION:Volkshochschule Braunschweig\, Alte Waage 15 (4. Stock)\, Braunschweig\, Niedersachsen\, 38100\, Germany
END:VEVENT
END:VCALENDAR