BEGIN:VCALENDAR
VERSION:2.0
PRODID:-//Fachstelle Antidiskriminierungsberatung - ECPv6.15.20//NONSGML v1.0//EN
CALSCALE:GREGORIAN
METHOD:PUBLISH
X-WR-CALNAME:Fachstelle Antidiskriminierungsberatung
X-ORIGINAL-URL:https://fachstelle.antidiskriminierung.org
X-WR-CALDESC:Veranstaltungen für Fachstelle Antidiskriminierungsberatung
REFRESH-INTERVAL;VALUE=DURATION:PT1H
X-Robots-Tag:noindex
X-PUBLISHED-TTL:PT1H
BEGIN:VTIMEZONE
TZID:Europe/Berlin
BEGIN:DAYLIGHT
TZOFFSETFROM:+0100
TZOFFSETTO:+0200
TZNAME:CEST
DTSTART:20230326T010000
END:DAYLIGHT
BEGIN:STANDARD
TZOFFSETFROM:+0200
TZOFFSETTO:+0100
TZNAME:CET
DTSTART:20231029T010000
END:STANDARD
BEGIN:DAYLIGHT
TZOFFSETFROM:+0100
TZOFFSETTO:+0200
TZNAME:CEST
DTSTART:20240331T010000
END:DAYLIGHT
BEGIN:STANDARD
TZOFFSETFROM:+0200
TZOFFSETTO:+0100
TZNAME:CET
DTSTART:20241027T010000
END:STANDARD
BEGIN:DAYLIGHT
TZOFFSETFROM:+0100
TZOFFSETTO:+0200
TZNAME:CEST
DTSTART:20250330T010000
END:DAYLIGHT
BEGIN:STANDARD
TZOFFSETFROM:+0200
TZOFFSETTO:+0100
TZNAME:CET
DTSTART:20251026T010000
END:STANDARD
END:VTIMEZONE
BEGIN:VEVENT
DTSTART;TZID=Europe/Berlin:20241001T100000
DTEND;TZID=Europe/Berlin:20241001T120000
DTSTAMP:20260422T001454
CREATED:20240729T123059Z
LAST-MODIFIED:20240910T140152Z
UID:10000337-1727776800-1727784000@fachstelle.antidiskriminierung.org
SUMMARY:Kollegiale Fallberatung advd und ADS
DESCRIPTION:Mit der kollegialen Fallberatung starten Fachstelle Antidiskriminierungsberatung des advd und das Beratungsreferat der Antidiskriminierungsstelle des Bundes ein neues Austauschformat. Ziel ist es\, den Antidiskriminierungsberater*innen fachliche Unterstützung anzubieten und den Austausch zu fördern. Dabei werden rechtliche Fragen\, Fragen zu konkreten Fällen oder herausfordernden Fallkonstellationen aus der eigenen Beratungspraxis besprochen.\nDie ausgewählten Fälle und Fragen werden mit zwei erfahrenen Berater*innen (je aus der Antidiskriminierungsstelle des Bundes sowie je aus einer zivilgesellschaftlichen Beratungsstelle) besprochen. Dabei wird eine rechtliche Einordnung vorgenommen und aus beraterischer Perspektive gemeinsam auf die Fragestellung sowie mögliche Handlungsoptionen eingegangen.
URL:https://fachstelle.antidiskriminierung.org/veranstaltung/kollegiale-fallberatung-advd-und-ads/
LOCATION:Online
CATEGORIES:online,kostenlos,Workshop
END:VEVENT
BEGIN:VEVENT
DTSTART;TZID=Europe/Berlin:20241002T090000
DTEND;TZID=Europe/Berlin:20241002T160000
DTSTAMP:20260422T001455
CREATED:20240711T214541Z
LAST-MODIFIED:20240802T123919Z
UID:10000321-1727859600-1727884800@fachstelle.antidiskriminierung.org
SUMMARY:M5 AGG Vertiefung (leider ausgebucht)
DESCRIPTION:Das Modul “Recht: AGG-Plus” baut auf den Grundlagen des vorherigen Moduls auf und bietet eine anwendungsbezogene Vertiefung des Allgemeinen Gleichbehandlungsgesetzes (AGG) sowie eine Analyse aktueller Rechtsprechung und -entwicklungen. Ein Schwerpunkt liegt auf der Rollenklärung und der Kooperation zwischen Antidiskriminierungs-Berater*innen und Rechtsanwält*innen\, um eine effektive Unterstützung von Ratsuchenden zu gewährleisten. Die Teilnehmenden reflektieren die Relevanz und Anwendung des rechtlichen Diskriminierungsschutzes in der Beratung und erweitern ihre Fähigkeiten zur strategischen Planung und Umsetzung rechtlicher Interventionen. Durch praxisnahe Fallbeispiele und Übungen werden die Berater*innen befähigt\, ihre rechtliche Expertise gezielt einzusetzen und die Rechte ihrer Klient*innen effektiv zu verteidigen.
URL:https://fachstelle.antidiskriminierung.org/veranstaltung/m5-agg-vertiefung/
LOCATION:Online
CATEGORIES:online,kostenlos,Workshop
END:VEVENT
BEGIN:VEVENT
DTSTART;TZID=Europe/Berlin:20241005T100000
DTEND;TZID=Europe/Berlin:20241005T170000
DTSTAMP:20260422T001455
CREATED:20240807T132732Z
LAST-MODIFIED:20240807T132732Z
UID:10000336-1728122400-1728147600@fachstelle.antidiskriminierung.org
SUMMARY:Geburtsvorbereitungskurs für Queers in Frankfurt am Main
DESCRIPTION:Mit unserem Kursangebot möchten wir einen sensiblen und sicheren Raum für queere Schwangere schaffen. Uns ist es besonders wichtig\, schwangere Personen und ihre Familien individuell und bedürfnisorientiert zu begleiten. Darüber hinaus ist es uns ein Herzensanliegen\, dass alle Menschen in Schwangerschaft\, unter Geburt und im Wochenbett gut informiert sind und radikal befürsorgt werden. Neben der mentalen und körperlichen Vorbereitung auf die Geburt und die Zeit des Wochenbetts wird es Raum für den Austausch über queere Elternschaften/ queeres Familienleben geben. Im Kurs sind alle queeren Schwangeren mit und ohne Partner*innen sowie Schwangere mit Begleitung/en\, von denen sich mindestens eine Person als queer identifiziert\, herzlich willkommen. Die Kosten für schwangere Personen trägt die Krankenkasse. Die Begleitperson zahlt einen Teilnahmebetrag von 150\,- €. Dieser wird von einigen Krankenkassen anteilig übernommen. Die Veranstaltung wird gefördert vom Amt für multikulturelle Angelegenheiten – AmkA. \nVeranstaltungszeiten: \nSamstag\, 5.10.2024 I 10:00 bis 17:00 Uhr\nSonntag\, 6.10.2024 I 9:30 bis 16:30 Uhr\nSamstag\, 12.10.2024 I 10:00 bis 16:00 Uhr \nReferent*innen: \nSarah Kemkes: Hebamme\, www.hebamme-kemkes.de \nAnna Dichtl: Doula* und Studeingangsreferent*in im Studiengang Hebammenwissenschaft\, Insta: queerfeminist_doula_ffm \nSarah Dionisius: Systemische*r Berater*in\, Kinderwunschberatung LIBS e.V. \n 
URL:https://fachstelle.antidiskriminierung.org/veranstaltung/geburtsvorbereitungskurs-fuer-queers-in-frankfurt-am-main/
LOCATION:Frankfurt
ATTACH;FMTTYPE=image/png:https://fachstelle.antidiskriminierung.org/wp-content/uploads/2024/07/Flyer_GVK_mit-Logos.png
ORGANIZER;CN="LIBS - Lesben Informations- und Beratungstelle":MAILTO:beratung@libs-ffm.de
END:VEVENT
BEGIN:VEVENT
DTSTART;TZID=Europe/Berlin:20241007T000000
DTEND;TZID=Europe/Berlin:20241008T000000
DTSTAMP:20260422T001455
CREATED:20240711T214425Z
LAST-MODIFIED:20240711T214425Z
UID:10000267-1728259200-1728345600@fachstelle.antidiskriminierung.org
SUMMARY:Modul 5 der Grundausbildung
DESCRIPTION:Modul 5 der Grundausbildung. Dies ist eine geschlossene Veranstaltung für Teilnehmende der Grundausbildung
URL:https://fachstelle.antidiskriminierung.org/veranstaltung/modul-5-der-grundausbildung/
LOCATION:Online
CATEGORIES:online,Modul
END:VEVENT
BEGIN:VEVENT
DTSTART;TZID=Europe/Berlin:20241007T000000
DTEND;TZID=Europe/Berlin:20241008T000000
DTSTAMP:20260422T001455
CREATED:20240711T214440Z
LAST-MODIFIED:20240711T214440Z
UID:10000277-1728259200-1728345600@fachstelle.antidiskriminierung.org
SUMMARY:Modul 4 Hochschulausbildung
DESCRIPTION:Dies ist eine geschlossene Veranstaltung für Teilnehmende der Hochschulausbildung
URL:https://fachstelle.antidiskriminierung.org/veranstaltung/modul-4-hochschulausbildung/
LOCATION:Online
CATEGORIES:online,Workshop
END:VEVENT
BEGIN:VEVENT
DTSTART;TZID=Europe/Berlin:20241008T090000
DTEND;TZID=Europe/Berlin:20241008T150000
DTSTAMP:20260422T001455
CREATED:20240711T214553Z
LAST-MODIFIED:20240925T073404Z
UID:10000332-1728378000-1728399600@fachstelle.antidiskriminierung.org
SUMMARY:Systemische Methoden in der AD-Beratung
DESCRIPTION:In diesem Workshop geht es um einen kurzen Input zu den Möglichkeiten der Gesprächsführung in der AD-Beratung mittels systemischer Methoden. \nBewerbung über Lamapoll ( via “Weitere Informationen”). Bewerbungsfrist ist der 01.10.24.
URL:https://fachstelle.antidiskriminierung.org/veranstaltung/systemische-methoden-in-der-ad-beratung-2-0/
CATEGORIES:online,kostenlos,Workshop
END:VEVENT
BEGIN:VEVENT
DTSTART;TZID=Europe/Berlin:20241010T180000
DTEND;TZID=Europe/Berlin:20241010T200000
DTSTAMP:20260422T001455
CREATED:20240902T132246Z
LAST-MODIFIED:20240902T132246Z
UID:10000348-1728583200-1728590400@fachstelle.antidiskriminierung.org
SUMMARY:Das Ende der Unsichtbarkeit. Warum wir über anti-asiatischen Rassismus sprechen müssen
DESCRIPTION:Die politische Bildnerin und Autorin Hami Nguyen beleuchtet in ihrem Buch „Das Ende der Unsichtbarkeit“ eine Diskriminierungsform\, die bisher in Deutschland noch wenig besprochen wurde: anti-asiatischer Rassismus. Anhand ihrer eigenen Geschichte und fundierter Gesellschaftsanalyse erzählt sie von dem Rassismus\, den „asiatisch“ gelesene Menschen erleben. Es geht unter anderem um den Mythos der „Vorzeigeminderheit“\, die Verschränkung mit Klassismus und die historische Kontinuität rassistischer Gewalt gegen Vietnames*innen in Deutschland. \nAnmeldung bis zum 06.10.2024 unter nsdok@stadt-koeln.de
URL:https://fachstelle.antidiskriminierung.org/veranstaltung/das-ende-der-unsichtbarkeit-warum-wir-ueber-anti-asiatischen-rassismus-sprechen-muessen/
LOCATION:NS-Dokumentationszentrum\, Köln\, Appellhofplatz 23-25\, Köln\, Nordrhein-Westfalen\, 50667\, Deutschland
ATTACH;FMTTYPE=image/jpeg:https://fachstelle.antidiskriminierung.org/wp-content/uploads/2024/08/Buchcover-Nguyen-scaled.jpg
ORGANIZER;CN="Mobile Beratung gegen Rechtsextremismus im Regierungsbezirk K%C3%B6ln":MAILTO:mbr@stadt-koeln.de
END:VEVENT
BEGIN:VEVENT
DTSTART;TZID=Europe/Berlin:20241011T000000
DTEND;TZID=Europe/Berlin:20241011T000000
DTSTAMP:20260422T001455
CREATED:20240711T214541Z
LAST-MODIFIED:20240711T214541Z
UID:10000322-1728604800-1728604800@fachstelle.antidiskriminierung.org
SUMMARY:KFB4 Kollegiale Fallberatung
DESCRIPTION:KFB mit Antirassismus-Berater*innen (WeAct von NeMo)
URL:https://fachstelle.antidiskriminierung.org/veranstaltung/kfb4-kollegiale-fallberatung/
LOCATION:Online
CATEGORIES:online,kostenlos,Workshop
END:VEVENT
BEGIN:VEVENT
DTSTART;TZID=Europe/Berlin:20241014T090000
DTEND;TZID=Europe/Berlin:20241014T133000
DTSTAMP:20260422T001455
CREATED:20240711T214541Z
LAST-MODIFIED:20240729T125555Z
UID:10000323-1728896400-1728912600@fachstelle.antidiskriminierung.org
SUMMARY:KFB-MS3 Kollegiale Austausch
DESCRIPTION:Bei der Kollegialer Fallaustausch gibt es die Möglichkeit\, miteinander zum Thema Koordination und Leitung einer Antirassismusberatungsstelle in Austausch zu gehen. Teilnehmende bringen Ihre Fragen und Anregungen\, die gerade für Sie wichtig sind. Der intensive Austausch in Kleingruppen wird von einer*m erfahrenen Person aus der Antidiskriminierungsberatung im Community-Kontext moderiert.
URL:https://fachstelle.antidiskriminierung.org/veranstaltung/kfb-ms3-kollegiale-austausch/
LOCATION:Online
CATEGORIES:online,kostenlos,Workshop
END:VEVENT
BEGIN:VEVENT
DTSTART;TZID=Europe/Berlin:20241015T133000
DTEND;TZID=Europe/Berlin:20241015T180000
DTSTAMP:20260422T001455
CREATED:20240917T081446Z
LAST-MODIFIED:20240917T081446Z
UID:10000351-1728999000-1729015200@fachstelle.antidiskriminierung.org
SUMMARY:Fachtag des advd: Zivilgesellschaftliches Lagebild Antidiskriminierung 2023
DESCRIPTION:Mit dem Lagebild Antidiskriminierung 2023 legt der Antidiskriminierungsverband Deutschland (advd) erstmals die Auswertung der Fallzahlen seiner Mitgliedsorganisationen aus dem Vorjahr vor. Bei unserer Veranstaltung am 15. Oktober (13:30 – 18:00 Uhr\, silent green\, Berlin) werden wir Ihnen die Ergebnisse unserer Analyse sowie unsere Publikation dazu vorstellen. Anschließend werden wir mit Fachexpert*innen die Entwicklungen\, ihre Konsequenzen und mögliche Handlungsoptionen diskutieren. Begrüßt werden wir von Ari Braun (Vorstandsmitglied des advd)\, Melanie Haas (Abteilungsleitung „Demokratie und Engagement“\, Bundesministerium für Familie\, Senioren\, Frauen und Jugend) und Nathalie Schlenzka (Referatsleitung Grundsatz und Forschung\, Antidiskriminierungsstelle des Bundes). \nDas komplette Programm mit weiteren Informationen\, inkl. zur Barrierefreiheit des Veranstaltungsortes\, steht für Sie weiter unten zum Download bereit. \nAnmeldung: \nSie können sich über diesen Link für die Veranstaltung registrieren. Bitte beachten Sie\, dass aufgrund begrenzter Teilnehmer*innenkapazitäten bei hoher Nachfrage nicht alle Anmeldungen berücksichtigt werden können und wir gegebenenfalls eine Auswahl treffen.
URL:https://fachstelle.antidiskriminierung.org/veranstaltung/fachtag-des-advd-zivilgesellschaftliches-lagebild-antidiskriminierung-2023/
LOCATION:silent green\, Gerichtsstraße 35\, Berlin\, 13347\, Germany
END:VEVENT
BEGIN:VEVENT
DTSTART;TZID=Europe/Berlin:20241016T100000
DTEND;TZID=Europe/Berlin:20241016T140000
DTSTAMP:20260422T001455
CREATED:20240729T124009Z
LAST-MODIFIED:20240729T124009Z
UID:10000339-1729072800-1729087200@fachstelle.antidiskriminierung.org
SUMMARY:AGG-Vertiefungsmodul zu Beweissicherung und Testing
DESCRIPTION:Dieser Workshop richtet sich an Antidiskriminierungsberater*innen\, die ihre Kenntnisse im Bereich der Beweissicherung und des Testings nach dem Allgemeinen Gleichbehandlungsgesetz (AGG) vertiefen möchten. Die Teilnehmer erhalten Einblicke in die die Methoden der Beweissicherung sowie Testings. Dies ist ein AGG-Vertiefungsmodul\, Basis-Kenntnisse zum AGG werden daher vorausgesetzt.
URL:https://fachstelle.antidiskriminierung.org/veranstaltung/agg-vertiefungsmodul-zu-beweissicherung-und-testing/
CATEGORIES:online,kostenlos,Workshop
END:VEVENT
BEGIN:VEVENT
DTSTART;TZID=Europe/Berlin:20241016T100000
DTEND;TZID=Europe/Berlin:20241016T140000
DTSTAMP:20260422T001455
CREATED:20241001T141907Z
LAST-MODIFIED:20241001T164140Z
UID:10000354-1729072800-1729087200@fachstelle.antidiskriminierung.org
SUMMARY:Workshop zu Beweissicherung in der AD-Beratung
DESCRIPTION:Dieser Online-Workshop beschäftigt sich mit der Frage der Beweissicherung im Rahmen der AD-Beratung. Die Frage\, ob eine diskriminierte Person vor Gericht Recht bekommt\, hängt entscheidend von der Beweislage ab. Im AGG ist in § 22 AGG eine sogenannte Beweislasterleichterung geregelt. Was bedeutet das und wie wirkt sich die Beweislastregelung in der Praxis aus? Wie können Ratsuchende die Beweislage beeinflussen und wie können Beratungsstellen sie dabei unterstützen? Unter anderem wird dabei das Testing als eine Methode zum Sammeln von Indizien vorgestellt. Inhalte des Workshops werden sein: \n• § 22 AGG \n• Grundlagen des Beweisrechts \n• Beweissicherung \n• Testing (Überblick) \nDer Workshop wird inhaltlich von Kerstin Kühn angeleitet. Kerstin Kühn ist Rechtsanwältin und war viele Jahre als Antidiskriminierungsberaterin beim Antidiskriminierungsnetzwerk Berlin des TBB als Beraterin tätig. \nAnmeldung bis 9.10.2024 über das Formular (siehe Link/”Weitere Informationen”)!
URL:https://fachstelle.antidiskriminierung.org/veranstaltung/workshop-zu-beweissicherung-in-der-ad-beratung/
LOCATION:Online
CATEGORIES:online,kostenlos,Workshop
END:VEVENT
BEGIN:VEVENT
DTSTART;TZID=Europe/Berlin:20241017T120000
DTEND;TZID=Europe/Berlin:20241017T150000
DTSTAMP:20260422T001455
CREATED:20240711T214456Z
LAST-MODIFIED:20240711T214456Z
UID:10000283-1729166400-1729177200@fachstelle.antidiskriminierung.org
SUMMARY:Kollegiale Fallaustauschreihe für AD-Beratungen an Hochschulen:  Austausch von Berater*innen of Color und Berater*innen\, die von Rassismus / Antisemitismus betroffen sind
DESCRIPTION:Dies ist eine offene Veranstaltung für AD-Berater*innen an Hochschulen
URL:https://fachstelle.antidiskriminierung.org/veranstaltung/kollegiale-fallaustauschreihe-fuer-ad-beratungen-an-hochschulen-austausch-von-beraterinnen-of-color-und-beraterinnen-die-von-rassismus-antisemitismus-betroffen-sind/
LOCATION:Online
CATEGORIES:online,kostenlos,Workshop
END:VEVENT
BEGIN:VEVENT
DTSTART;TZID=Europe/Berlin:20241023T093000
DTEND;TZID=Europe/Berlin:20241023T103000
DTSTAMP:20260422T001455
CREATED:20240917T115908Z
LAST-MODIFIED:20240917T115908Z
UID:10000352-1729675800-1729679400@fachstelle.antidiskriminierung.org
SUMMARY:Q&A: Auswertungsmodul der Digitalen Akte
DESCRIPTION:In diesem Q&A geben wir euch Gelegenheit eure Fragen zum Thema Auswertungen mit der Digitalen Akte an uns zu richten. \n\nWie kann ich nach Daten filtern?\nWelche Kategorien von Daten kann ich auswerten?\nWie erhalte ich die Statistik\, die ich benötige?\nWie erstelle ich Visualisierungen meiner Auswertung?\nsowie andere Fragen\, die euch beschäftigen
URL:https://fachstelle.antidiskriminierung.org/veranstaltung/qa-auswertungsmodul-der-digitalen-akte/
LOCATION:Online
END:VEVENT
BEGIN:VEVENT
DTSTART;TZID=Europe/Berlin:20241030T090000
DTEND;TZID=Europe/Berlin:20241030T130000
DTSTAMP:20260422T001455
CREATED:20240711T214550Z
LAST-MODIFIED:20240729T125733Z
UID:10000325-1730278800-1730293200@fachstelle.antidiskriminierung.org
SUMMARY:M5b Kollegiale Fallberatung
DESCRIPTION:Die Methode der Kollegiale Fallberatung ist eine strukturierte Beratungsgespräch\, was darauf abzielt\, konkrete Probleme oder Frage des Berufsalltags lösungsorientiert unter Kolleg*innen zu besprechen. Dabei können für konkrete Fälle und herausfordernde Situationen Interventionsmöglichkeiten gemeinsam überlegt und Lösungen entwickelt werden.\nIhr seid daher dazu herzlich eingeladen\, konkrete oder auch grundsätzlichen Themen aus der Beratungsarbeit oder im Community-Kontext mitzubringen. Dies können Beratungsfälle\, Problemlagen oder auch andere berufliche Situationen\, die euch aktuell beschäftigen. In den kleinen Gruppen wollen wir auf Probleme\, Herausforderungen und auch Erfolge aus der Beratungsarbeit intensiver und tiefer reingehen.
URL:https://fachstelle.antidiskriminierung.org/veranstaltung/kfb-m5b-kollegiale-fallberatung/
LOCATION:Online
CATEGORIES:online,kostenlos,Workshop
END:VEVENT
END:VCALENDAR