BEGIN:VCALENDAR
VERSION:2.0
PRODID:-//Fachstelle Antidiskriminierungsberatung - ECPv6.15.20//NONSGML v1.0//EN
CALSCALE:GREGORIAN
METHOD:PUBLISH
X-ORIGINAL-URL:https://fachstelle.antidiskriminierung.org
X-WR-CALDESC:Veranstaltungen für Fachstelle Antidiskriminierungsberatung
REFRESH-INTERVAL;VALUE=DURATION:PT1H
X-Robots-Tag:noindex
X-PUBLISHED-TTL:PT1H
BEGIN:VTIMEZONE
TZID:Europe/Berlin
BEGIN:DAYLIGHT
TZOFFSETFROM:+0100
TZOFFSETTO:+0200
TZNAME:CEST
DTSTART:20230326T010000
END:DAYLIGHT
BEGIN:STANDARD
TZOFFSETFROM:+0200
TZOFFSETTO:+0100
TZNAME:CET
DTSTART:20231029T010000
END:STANDARD
BEGIN:DAYLIGHT
TZOFFSETFROM:+0100
TZOFFSETTO:+0200
TZNAME:CEST
DTSTART:20240331T010000
END:DAYLIGHT
BEGIN:STANDARD
TZOFFSETFROM:+0200
TZOFFSETTO:+0100
TZNAME:CET
DTSTART:20241027T010000
END:STANDARD
BEGIN:DAYLIGHT
TZOFFSETFROM:+0100
TZOFFSETTO:+0200
TZNAME:CEST
DTSTART:20250330T010000
END:DAYLIGHT
BEGIN:STANDARD
TZOFFSETFROM:+0200
TZOFFSETTO:+0100
TZNAME:CET
DTSTART:20251026T010000
END:STANDARD
END:VTIMEZONE
BEGIN:VEVENT
DTSTART;TZID=Europe/Berlin:20240903T090000
DTEND;TZID=Europe/Berlin:20240903T160000
DTSTAMP:20260422T065905
CREATED:20240711T214526Z
LAST-MODIFIED:20240802T122004Z
UID:10000314-1725354000-1725379200@fachstelle.antidiskriminierung.org
SUMMARY:M5a Recht: AGG-Basics (leider ausgebucht)
DESCRIPTION:Das Modul “Recht: Basics des Allgemeinen Gleichbehandlungsgesetz (AGG)” richtet sich an Community-basierte Berater*innen und bietet eine eingehende Betrachtung der Systematik des europäischen und nationalen Rechtsschutzes gegen Diskriminierung. Dabei werden die grundlegenden Mechanismen und rechtlichen Instrumente zur Bekämpfung von Diskriminierung untersucht. Ein besonderer Schwerpunkt liegt auf der Einordnung eines Falls im Rahmen des Allgemeinen Gleichbehandlungsgesetzes (AGG) sowie anderer einschlägiger Rechtsvorschriften. Teilnehmende erlernen Strategien zur rechtlichen Intervention und erhalten Einblicke in das Verfahren zur Durchsetzung von Diskriminierungsschutz. Das Modul bietet eine praxisnahe Herangehensweise zur Anwendung des Rechtsrahmens auf konkrete Diskriminierungsfälle und stärkt die Kompetenz der Berater*innen im Bereich des rechtlichen Diskriminierungsschutzes.
URL:https://fachstelle.antidiskriminierung.org/veranstaltung/m5a-recht-agg-basics/
LOCATION:Online
CATEGORIES:online,kostenlos,Workshop
END:VEVENT
BEGIN:VEVENT
DTSTART;TZID=Europe/Berlin:20240903T110000
DTEND;TZID=Europe/Berlin:20240903T120000
DTSTAMP:20260422T065905
CREATED:20240711T214553Z
LAST-MODIFIED:20240726T103544Z
UID:10000330-1725361200-1725364800@fachstelle.antidiskriminierung.org
SUMMARY:Q&A zum Auswertungsmodul der Digitalen Akte
DESCRIPTION:In diesem Q&A geben wir euch Gelegenheit eure Fragen zum Thema Auswertungen mit der Digitalen Akte an uns zu richten.\nWie kann ich nach Daten filtern?\nWelche Kategorien von Daten kann ich auswerten?\nWie erhalte ich die Statistik\, die ich benötige?\nWie erstelle ich Visualisierungen meiner Auswertung?\nsowie andere Fragen\, die euch beschäftigen
URL:https://fachstelle.antidiskriminierung.org/veranstaltung/qa-zum-auswertungsmodul-der-digitalen-akte/
LOCATION:Online
CATEGORIES:online,kostenlos,Workshop
END:VEVENT
BEGIN:VEVENT
DTSTART;TZID=Europe/Berlin:20240904T120000
DTEND;TZID=Europe/Berlin:20240904T150000
DTSTAMP:20260422T065905
CREATED:20240711T214455Z
LAST-MODIFIED:20240711T214455Z
UID:10000282-1725451200-1725462000@fachstelle.antidiskriminierung.org
SUMMARY:Kollegiale Fallaustauschreihe für AD-Beratungen an Hochschulen:  Selbstfürsorge und Abgrenzung als Berater*in
DESCRIPTION:Dies ist eine offene Veranstaltung für AD-Berater*innen an Hochschulen
URL:https://fachstelle.antidiskriminierung.org/veranstaltung/kollegiale-fallaustauschreihe-fuer-ad-beratungen-an-hochschulen-selbstfuersorge-und-abgrenzung-als-beraterin/
LOCATION:Online
CATEGORIES:online,kostenlos,Workshop
END:VEVENT
BEGIN:VEVENT
DTSTART;TZID=Europe/Berlin:20240905T000000
DTEND;TZID=Europe/Berlin:20240906T000000
DTSTAMP:20260422T065905
CREATED:20240711T214440Z
LAST-MODIFIED:20240711T214440Z
UID:10000276-1725494400-1725580800@fachstelle.antidiskriminierung.org
SUMMARY:Modul 3 Hochschulausbildung
DESCRIPTION:Dies ist eine geschlossene Veranstaltung für Teilnehmende der Hochschulausbildung
URL:https://fachstelle.antidiskriminierung.org/veranstaltung/modul-3-hochschulausbildung/
LOCATION:Alte-Feuerwache\, Berlin-Kreuzberg
CATEGORIES:Präsenzveranstaltung,Workshop
END:VEVENT
BEGIN:VEVENT
DTSTART;TZID=Europe/Berlin:20240909T100000
DTEND;TZID=Europe/Berlin:20240909T110000
DTSTAMP:20260422T065905
CREATED:20240729T154549Z
LAST-MODIFIED:20240729T154736Z
UID:10000341-1725876000-1725879600@fachstelle.antidiskriminierung.org
SUMMARY:Q&A: Fragen und Antworten zur Nutzung der neuen Falldokumentation
DESCRIPTION:Im Rahmen dieses Austauschtermins möchten wir Ihnen einen allgemeinen Überblick über die neue Falldokumentation geben.   \nDie Veranstaltung dient vor allem dazu\, Ihre Fragen zur praktischen Nutzung des neuen Kategoriensystems zu beantworten.  \nDazu gehören unter anderem:  \n\nFragen zu den neuen Kategorien und zu den Empfehlungen in der Handreichung\n\n\nFragen dazu\, wie konkrete Beratungssituationen oder Fallkonstellationen dokumentiert werden können\nsowie natürlich alle weiteren Fragen zu der neuen Falldokumentation
URL:https://fachstelle.antidiskriminierung.org/veranstaltung/qa-fragen-und-antworten-zur-nutzung-der-neuen-falldokumentation/
LOCATION:Online
CATEGORIES:online,kostenlos,Workshop
END:VEVENT
BEGIN:VEVENT
DTSTART;TZID=Europe/Berlin:20240910T140000
DTEND;TZID=Europe/Berlin:20240910T170000
DTSTAMP:20260422T065905
CREATED:20240711T214537Z
LAST-MODIFIED:20240729T121545Z
UID:10000315-1725976800-1725987600@fachstelle.antidiskriminierung.org
SUMMARY:M5a Kollegiale Fallberatung
DESCRIPTION:Die Methode der Kollegiale Fallberatung ist eine strukturierte Beratungsgespräch\, was darauf abzielt\, konkrete Probleme oder Frage des Berufsalltags lösungsorientiert unter Kolleg*innen zu besprechen. Dabei können für konkrete Fälle und herausfordernde Situationen Interventionsmöglichkeiten gemeinsam überlegt und Lösungen entwickelt werden.\nIhr seid daher dazu herzlich eingeladen\, konkrete oder auch grundsätzlichen Themen aus der Beratungsarbeit oder im Community-Kontext mitzubringen. Dies können Beratungsfälle\, Problemlagen oder auch andere berufliche Situationen\, die euch aktuell beschäftigen. In den kleinen Gruppen wollen wir auf Probleme\, Herausforderungen und auch Erfolge aus der Beratungsarbeit intensiver und tiefer reingehen.
URL:https://fachstelle.antidiskriminierung.org/veranstaltung/kfb-m5a-kollegiale-fallberatung/
LOCATION:Online
CATEGORIES:online,kostenlos,Workshop
END:VEVENT
BEGIN:VEVENT
DTSTART;TZID=Europe/Berlin:20240916T090000
DTEND;TZID=Europe/Berlin:20240916T170000
DTSTAMP:20260422T065905
CREATED:20240711T214538Z
LAST-MODIFIED:20240826T144610Z
UID:10000318-1726477200-1726506000@fachstelle.antidiskriminierung.org
SUMMARY:O7 Beratung von Minderjährigen
DESCRIPTION:Das Online-Modul “Beratung von Minderjährigen” thematisiert die Beratung von Kindern und Jugendlichen\, die von Rassismus betroffen sind. Was muss bei der Beratung von Minderjährigen beachtet werden? Welche Auswirkungen haben Machtverhältnisse im Beratungskontext mit Minderjährigen? Das Modul thematisiert die Bereiche und Diskriminierungsebenen\, die Kinder und Jugendliche erfahren. Es bietet eine kritische Auseinandersetzung zum Thema sowie Methoden\, um Rassismus kindgerecht zu besprechen und ein unterstützendes Beratungssetting zu schaffen.
URL:https://fachstelle.antidiskriminierung.org/veranstaltung/o7-beratung-von-minderjaehrigen/
LOCATION:Online
CATEGORIES:online,kostenlos,Workshop
END:VEVENT
BEGIN:VEVENT
DTSTART;TZID=Europe/Berlin:20240923T110000
DTEND;TZID=Europe/Berlin:20240923T121500
DTSTAMP:20260422T065905
CREATED:20240801T130230Z
LAST-MODIFIED:20240801T130230Z
UID:10000344-1727089200-1727093700@fachstelle.antidiskriminierung.org
SUMMARY:Basis-Training zur neuen Digitalen Akte
DESCRIPTION:In diesem Training möchten wir die Grundfunktionen der neuen Digitalen Akte vorstellen. \n\nWie lege ich Kontakte an?\nWie lege ich Fälle an?\nWie behalte ich den Überblick über meine Fälle?\nWie funktioniert die Co-Beratung?\nWir (co-)verwalte ich Fall-Dokumente?\nWie kann ich auswerten?
URL:https://fachstelle.antidiskriminierung.org/veranstaltung/basis-training-zur-neuen-digitalen-akte-2/
LOCATION:Online
CATEGORIES:online,kostenlos,Workshop
END:VEVENT
BEGIN:VEVENT
DTSTART;TZID=Europe/Berlin:20240924T090000
DTEND;TZID=Europe/Berlin:20240925T153000
DTSTAMP:20260422T065905
CREATED:20240711T214538Z
LAST-MODIFIED:20240826T144748Z
UID:10000319-1727168400-1727278200@fachstelle.antidiskriminierung.org
SUMMARY:Einstieg in die Erst- und Verweisberatung
DESCRIPTION:Um einen niedrigschwelligen Zugang zur Antidiskriminierungsberatung sicherzustellen sind verbindliche Erst- und Verweisberatungsstrukturen notwendig (Antidiskriminierungsstelle des Bundes\, 2013). Im Rahmen des Projektes “Community-basierte Beratung” wird im September eine 2-tägiges Online-Modul zum Thema Erst- und Verweisberatung angeboten\, das sich auch an Ehrenamtliche richtet und die Grundlagen der Verweisberatung vermittelt. Was ist eine Erst- und Verweisberatung? Welche Aufgaben gehören zu einer Erst- und Verweisberatung und welche nicht? Welche (rechtlichen) Aspekte müssen bei der Verweisberatung beachtet werden? Wie kann ein erstes Beratungsgespräch geführt werden?
URL:https://fachstelle.antidiskriminierung.org/veranstaltung/of-erst-und-verweisberatung-im-communitybasierte-kontexte/
LOCATION:Online
CATEGORIES:online,kostenlos,Workshop
END:VEVENT
BEGIN:VEVENT
DTSTART;TZID=Europe/Berlin:20240930T090000
DTEND;TZID=Europe/Berlin:20240930T170000
DTSTAMP:20260422T065905
CREATED:20240711T214541Z
LAST-MODIFIED:20240729T124943Z
UID:10000320-1727686800-1727715600@fachstelle.antidiskriminierung.org
SUMMARY:M5 Vertiefung Beschwerdebrief
DESCRIPTION:Das Beschwerdebrief ist ein flexibles Werkzeug\, was sehr häufig in der Antidiskriminierungsberatung verwendet wird. Dieser Modul baut auf dem advd-Modul “Außergerichtliche Interventionen I” auf und bietet eine Vertiefung der Skills\, die es einem unterstützt\, effektive Beschwerdebriefe zu schreiben.\nWir werden auch während des Workshops eigene Beschwerdebriefe analysieren\, sich gegenseitig Feedback geben und bearbeiten. Hierfür bitten wir euch einen Beschwerdebrief aus eurer eigenen Praxis mitzubringen\, wenn möglich als pdf-Datei. Bitte alle Namen im Beschwerdebrief anonymisieren oder rausstreichen. Falls du keine Beschwerdebriefe aus der eigenen Praxis mitbringen willst\, kannst du auch den fiktiven Beratungsfall im Anhang nehmen\, um einen Beschwerdebrief zu schreiben\, den du mitbringen kannst.
URL:https://fachstelle.antidiskriminierung.org/veranstaltung/m5-vertiefung-beschwerdebrief/
LOCATION:Online
CATEGORIES:online,kostenlos,Workshop
END:VEVENT
END:VCALENDAR