BEGIN:VCALENDAR
VERSION:2.0
PRODID:-//Fachstelle Antidiskriminierungsberatung - ECPv6.15.20//NONSGML v1.0//EN
CALSCALE:GREGORIAN
METHOD:PUBLISH
X-WR-CALNAME:Fachstelle Antidiskriminierungsberatung
X-ORIGINAL-URL:https://fachstelle.antidiskriminierung.org
X-WR-CALDESC:Veranstaltungen für Fachstelle Antidiskriminierungsberatung
REFRESH-INTERVAL;VALUE=DURATION:PT1H
X-Robots-Tag:noindex
X-PUBLISHED-TTL:PT1H
BEGIN:VTIMEZONE
TZID:Europe/Berlin
BEGIN:DAYLIGHT
TZOFFSETFROM:+0100
TZOFFSETTO:+0200
TZNAME:CEST
DTSTART:20230326T010000
END:DAYLIGHT
BEGIN:STANDARD
TZOFFSETFROM:+0200
TZOFFSETTO:+0100
TZNAME:CET
DTSTART:20231029T010000
END:STANDARD
BEGIN:DAYLIGHT
TZOFFSETFROM:+0100
TZOFFSETTO:+0200
TZNAME:CEST
DTSTART:20240331T010000
END:DAYLIGHT
BEGIN:STANDARD
TZOFFSETFROM:+0200
TZOFFSETTO:+0100
TZNAME:CET
DTSTART:20241027T010000
END:STANDARD
BEGIN:DAYLIGHT
TZOFFSETFROM:+0100
TZOFFSETTO:+0200
TZNAME:CEST
DTSTART:20250330T010000
END:DAYLIGHT
BEGIN:STANDARD
TZOFFSETFROM:+0200
TZOFFSETTO:+0100
TZNAME:CET
DTSTART:20251026T010000
END:STANDARD
END:VTIMEZONE
BEGIN:VEVENT
DTSTART;TZID=Europe/Berlin:20240717T100000
DTEND;TZID=Europe/Berlin:20240717T120000
DTSTAMP:20260422T034451
CREATED:20240711T214422Z
LAST-MODIFIED:20240711T214422Z
UID:10000260-1721210400-1721217600@fachstelle.antidiskriminierung.org
SUMMARY:Online-Vortragsreihe AGG-Reform- Teil 5: Rechtsmobilisierung
DESCRIPTION:Vom 24.4.24 bis 21.8.24 findet an sechs Terminen die Onlinevortragsreihe “Antidiskriminierung für Alle: Das Potenzial einer umfassenden AGG-Reform für mehr Chancengerechtigkeit und Teilhabe” statt\, in der wir uns die Forderungen für die Reform des Allgemeinen Gleichbehandlungsgesetzes (AGG) näher anschauen\, die es aus der Zivilgesellschaft – vertreten durch das Bündnis AGG Reform – Jetzt! – gibt. Die Vorträge sollen niedrigschwellig ins AGG und in die verschiedenen Kritikpunkte zum Gesetz einführen und anhand von Fallbeispielen aus der Praxis anschaulich machen. \nDas Allgemeine Gleichbehandlungsgesetz (AGG) ist das zentrale Gesetz in Deutschland\, um gegen Diskriminierung vorzugehen. In fast 18 Jahren Praxiserfahrung sind die Schwächen des AGGs weitgehend bekannt: Das Gesetz schützt nicht alle Betroffene von Diskriminierung\, es findet nicht in jedem Lebensbereich Anwendung und es hat viele Schutzlücken. \nAuch ist das rechtliche Vorgehen für Betroffene gegen Diskriminierung zu schwierig. Seit Jahren fordern Expert*innen daher die Einführung eines Verbandsklagerechts\, die Beweislasterleichterung zu erweitern und die Geltendmachungsfrist im Fall von Diskriminierung anzuheben\, um die Rechtsdurchsetzung für Betroffene von Diskriminierung zu verbessern. \nDie Ampel-Koalition hat im Koalitionsvertrag eine Reform des Allgemeinen Gleichbehandlungsgesetzes (AGG) angekündigt. Bisher liegt kein Eckpunktepapier für die AGG-Reform vor. Eine Reform ist aber längst überfällig. \nIn dieser Onlinevortragsreihe möchten wir uns die zivilgesellschaftlichen Forderungen zur Reform des Gesetzes genauer anschauen. Zielgruppe der Vortragreihe sind Antidiskriminierungsberater*innen\, zivilgesellschaftliche Organisationen\, die zu Antidiskriminierung arbeiten sowie Interessierte\, die mehr zum AGG und der anstehenden Reform erfahren möchten.  \nAm 17.07.24\, dem Tag der Gerechtigkeit\, richten wir den Fokus auf die herausfordernde Thematik der Rechtsmobilisierung und Rechtsdurchsetzung. Denn Recht haben und Recht bekommen sind bekanntermaßen nicht immer das Gleiche.\nDas verdeutlichen uns die langjährigen Erfahrungen von Betroffenen und Antidiskriminierungsberatungsstellen sowie die wenigen AGG-Klagen. In dieser Veranstaltung werden verschiedene Aspekte dieser Thematik beleuchtet\, darunter die Bedeutung von Beratung und Unterstützung von Betroffenen\, die Problematik der AGG-Fristen\, das Verbandsklagerecht\, die Schwierigkeiten der Beweisbarkeit und die Notwendigkeit von abschreckenden Entschädigungszahlungen. \nEva Maria Andrades ist Volljuristin und Geschäftsführerin des Antidiskriminierungsverband Deutschland (advd). Sie hat über 10 Jahre in der Antidiskriminierungsberatung Betroffene von Rassismus bei der Durchsetzung ihrer Rechte und in Gerichtsverfahren als Beiständin unterstützt. In ihrer Arbeit setzt sie sich ein für eine aktive Politik gegen Rassismus und Diskriminierung und fordert u.a. die Stärkung Diskriminierungserfahrener und von Rassismusbetroffener Communities\, die Verbesserung des rechtlichen Diskriminierungsschutzes und den Ausbau flächendeckender Beratungsstrukturen für Betroffene. \nLeonie Thum ist Rechtsanwältin und Fachanwältin für Arbeitsrecht. Sie ist Inhaberin der Rechtsanwaltskanzlei Thum und berät ausschließlich Arbeitnehmer*innen\, deren Gremien und Interessenvertretungen.
URL:https://fachstelle.antidiskriminierung.org/veranstaltung/online-vortragsreihe-agg-reform-teil-5-rechtsmobilisierung/
CATEGORIES:Vortrag,online,kostenlos
END:VEVENT
END:VCALENDAR