BEGIN:VCALENDAR
VERSION:2.0
PRODID:-//Fachstelle Antidiskriminierungsberatung - ECPv6.15.20//NONSGML v1.0//EN
CALSCALE:GREGORIAN
METHOD:PUBLISH
X-ORIGINAL-URL:https://fachstelle.antidiskriminierung.org
X-WR-CALDESC:Veranstaltungen für Fachstelle Antidiskriminierungsberatung
REFRESH-INTERVAL;VALUE=DURATION:PT1H
X-Robots-Tag:noindex
X-PUBLISHED-TTL:PT1H
BEGIN:VTIMEZONE
TZID:Europe/Berlin
BEGIN:DAYLIGHT
TZOFFSETFROM:+0100
TZOFFSETTO:+0200
TZNAME:CEST
DTSTART:20230326T010000
END:DAYLIGHT
BEGIN:STANDARD
TZOFFSETFROM:+0200
TZOFFSETTO:+0100
TZNAME:CET
DTSTART:20231029T010000
END:STANDARD
BEGIN:DAYLIGHT
TZOFFSETFROM:+0100
TZOFFSETTO:+0200
TZNAME:CEST
DTSTART:20240331T010000
END:DAYLIGHT
BEGIN:STANDARD
TZOFFSETFROM:+0200
TZOFFSETTO:+0100
TZNAME:CET
DTSTART:20241027T010000
END:STANDARD
BEGIN:DAYLIGHT
TZOFFSETFROM:+0100
TZOFFSETTO:+0200
TZNAME:CEST
DTSTART:20250330T010000
END:DAYLIGHT
BEGIN:STANDARD
TZOFFSETFROM:+0200
TZOFFSETTO:+0100
TZNAME:CET
DTSTART:20251026T010000
END:STANDARD
END:VTIMEZONE
BEGIN:VEVENT
DTSTART;TZID=Europe/Berlin:20240603T000000
DTEND;TZID=Europe/Berlin:20240604T000000
DTSTAMP:20260422T070352
CREATED:20240711T214440Z
LAST-MODIFIED:20240711T214440Z
UID:10000274-1717372800-1717459200@fachstelle.antidiskriminierung.org
SUMMARY:Modul 1 Hochschulausbildung
DESCRIPTION:Dies ist eine geschlossene Veranstaltung für Teilnehmende der Hochschulausbildung
URL:https://fachstelle.antidiskriminierung.org/veranstaltung/modul-1-hochschulausbildung/
LOCATION:Alte-Feuerwache\, Berlin-Kreuzberg
CATEGORIES:Präsenzveranstaltung,Workshop
END:VEVENT
BEGIN:VEVENT
DTSTART;TZID=Europe/Berlin:20240611T090000
DTEND;TZID=Europe/Berlin:20240611T120000
DTSTAMP:20260422T070352
CREATED:20240711T214455Z
LAST-MODIFIED:20240711T214455Z
UID:10000280-1718096400-1718107200@fachstelle.antidiskriminierung.org
SUMMARY:Kollegiale Fallaustauschreihe für AD-Beratungen an Hochschulen: Parteilichkeit in der Beratung
DESCRIPTION:Dies ist eine offene Veranstaltung für AD-Berater*innen an Hochschulen
URL:https://fachstelle.antidiskriminierung.org/veranstaltung/kollegiale-fallaustauschreihe-fuer-ad-beratungen-an-hochschulen-parteilichkeit-in-der-beratung/
LOCATION:Online
CATEGORIES:online,kostenlos,Workshop
END:VEVENT
BEGIN:VEVENT
DTSTART;TZID=Europe/Berlin:20240612T000000
DTEND;TZID=Europe/Berlin:20240612T000000
DTSTAMP:20260422T070352
CREATED:20240711T214430Z
LAST-MODIFIED:20240711T214430Z
UID:10000271-1718150400-1718150400@fachstelle.antidiskriminierung.org
SUMMARY:AGG Plus-Vertiefungsworkshop zum AGG
DESCRIPTION:Vertiefung des Praxiswissens zum Allgemeinen Gleichbehandlungsgesetz (AGG) für die Beratungsarbeit
URL:https://fachstelle.antidiskriminierung.org/veranstaltung/agg-plus-vertiefungsworkshop-zum-agg/
LOCATION:Online
END:VEVENT
BEGIN:VEVENT
DTSTART;TZID=Europe/Berlin:20240612T000000
DTEND;TZID=Europe/Berlin:20240612T000000
DTSTAMP:20260422T070352
CREATED:20240711T214455Z
LAST-MODIFIED:20240711T214455Z
UID:10000279-1718150400-1718150400@fachstelle.antidiskriminierung.org
SUMMARY:AG Beratungsstandards für Hochschulen
DESCRIPTION:Dies ist eine offene VA für AD-Berater*innen an Hochschulen
URL:https://fachstelle.antidiskriminierung.org/veranstaltung/ag-beratungsstandards-fuer-hochschulen/
LOCATION:Online
END:VEVENT
BEGIN:VEVENT
DTSTART;TZID=Europe/Berlin:20240612T000000
DTEND;TZID=Europe/Berlin:20240612T000000
DTSTAMP:20260422T070352
CREATED:20240711T214456Z
LAST-MODIFIED:20240711T214456Z
UID:10000284-1718150400-1718150400@fachstelle.antidiskriminierung.org
SUMMARY:AG Beratungsstandards für Hochschulen
DESCRIPTION:Dies ist eine offene VA für AD-Berater*innen an Hochschulen
URL:https://fachstelle.antidiskriminierung.org/veranstaltung/ag-beratungsstandards-fuer-hochschulen-2/
LOCATION:Online
END:VEVENT
BEGIN:VEVENT
DTSTART;TZID=Europe/Berlin:20240613T000000
DTEND;TZID=Europe/Berlin:20240626T000000
DTSTAMP:20260422T070352
CREATED:20240711T214422Z
LAST-MODIFIED:20240711T214422Z
UID:10000259-1718236800-1719360000@fachstelle.antidiskriminierung.org
SUMMARY:Panel am 17.6.: Umkämpfte Teilhabe: Effekte des Antidiskriminierungsrechts\, WS am 19.6.: Transparenz und Evidenz: effektive Falldokumentation in der Antidiskriminierungsberatung in öffentlichen Einrichtungen
DESCRIPTION:vom 13. bis zum 26. Juni finden die JUNI TAGE unseres Kompetenznetzwerks als digitale Veranstaltungsreihe statt: Wir geben Impulse und kommen ins Gespräch zu aktuellen Fragen und Herausforderungen im Themenbereich Antidiskriminierung und Diversitätsorientierung. Programm: https://static1.squarespace.com/static/5e7dbdfd8285881b8e444dea/t/6644ccd2493fbc3ae826b1e7/1715784914555/20240515_JuniTageKNAD.pdf
URL:https://fachstelle.antidiskriminierung.org/veranstaltung/panel-am-17-6-umkaempfte-teilhabe-effekte-des-antidiskriminierungsrechts-ws-am-19-6-transparenz-und-evidenz-effektive-falldokumentation-in-der-antidiskriminierungsberatung-in-oeffentlichen-einr/
END:VEVENT
BEGIN:VEVENT
DTSTART;TZID=Europe/Berlin:20240613T093000
DTEND;TZID=Europe/Berlin:20240613T123000
DTSTAMP:20260422T070352
CREATED:20240711T214459Z
LAST-MODIFIED:20240711T214459Z
UID:10000286-1718271000-1718281800@fachstelle.antidiskriminierung.org
SUMMARY:Erst- & Verweisberatung (Input + Q&A)
DESCRIPTION:Im Rahmen der Online-Austauschreihe Strukturaufbau werden Themen behandelt\, die für den Aufbau von Beratungsstellen und Strukturen besonderen Belang haben. Heute: Erst- und Verweisberatung.
URL:https://fachstelle.antidiskriminierung.org/veranstaltung/erst-verweisberatung-input-qa/
END:VEVENT
BEGIN:VEVENT
DTSTART;TZID=Europe/Berlin:20240619T090000
DTEND;TZID=Europe/Berlin:20240619T150000
DTSTAMP:20260422T070352
CREATED:20240711T214425Z
LAST-MODIFIED:20240711T214425Z
UID:10000264-1718787600-1718809200@fachstelle.antidiskriminierung.org
SUMMARY:Aufbaumodul: Methoden der Beratung
DESCRIPTION:
URL:https://fachstelle.antidiskriminierung.org/veranstaltung/aufbaumodul-methoden-der-beratung/
END:VEVENT
BEGIN:VEVENT
DTSTART;TZID=Europe/Berlin:20240620T000000
DTEND;TZID=Europe/Berlin:20240620T000000
DTSTAMP:20260422T070352
CREATED:20240711T214430Z
LAST-MODIFIED:20240711T214430Z
UID:10000272-1718841600-1718841600@fachstelle.antidiskriminierung.org
SUMMARY:Kollegiale Fallberatung
DESCRIPTION:Kollegiale Fallberatung zu ausgewählten Fällen in Kooperation mit der Antidiskriminierungsstelle des Bundes
URL:https://fachstelle.antidiskriminierung.org/veranstaltung/kollegiale-fallberatung/
END:VEVENT
BEGIN:VEVENT
DTSTART;TZID=Europe/Berlin:20240620T000000
DTEND;TZID=Europe/Berlin:20240621T000000
DTSTAMP:20260422T070352
CREATED:20240711T214525Z
LAST-MODIFIED:20240711T214525Z
UID:10000310-1718841600-1718928000@fachstelle.antidiskriminierung.org
SUMMARY:M4 Beratungsprozess + Beraterische Haltung
DESCRIPTION:Modul mit Antirassismus-Berater*innen (Community Plus von BKMO)
URL:https://fachstelle.antidiskriminierung.org/veranstaltung/m4-beratungsprozess-beraterische-haltung/
END:VEVENT
BEGIN:VEVENT
DTSTART;TZID=Europe/Berlin:20240621T000000
DTEND;TZID=Europe/Berlin:20240621T000000
DTSTAMP:20260422T070352
CREATED:20240711T214525Z
LAST-MODIFIED:20240711T214525Z
UID:10000311-1718928000-1718928000@fachstelle.antidiskriminierung.org
SUMMARY:M6a Vermittlungsgespräch + Konfliktgespräch
DESCRIPTION:Modul mit Antirassismus-Berater*innen (AntiRaktiv von DaMost)
URL:https://fachstelle.antidiskriminierung.org/veranstaltung/m6a-vermittlungsgespraech-konfliktgespraech/
LOCATION:Online
END:VEVENT
BEGIN:VEVENT
DTSTART;TZID=Europe/Berlin:20240624T000000
DTEND;TZID=Europe/Berlin:20240624T000000
DTSTAMP:20260422T070352
CREATED:20240711T214526Z
LAST-MODIFIED:20240711T214526Z
UID:10000312-1719187200-1719187200@fachstelle.antidiskriminierung.org
SUMMARY:KFB-M4 Kollegiale Fallberatung
DESCRIPTION:KFB mit Antirassismus-Berater*innen (Community Plus von BKMO)
URL:https://fachstelle.antidiskriminierung.org/veranstaltung/kfb-m4-kollegiale-fallberatung/
LOCATION:Online
END:VEVENT
BEGIN:VEVENT
DTSTART;TZID=Europe/Berlin:20240624T000000
DTEND;TZID=Europe/Berlin:20240625T000000
DTSTAMP:20260422T070352
CREATED:20240711T214440Z
LAST-MODIFIED:20240711T214440Z
UID:10000275-1719187200-1719273600@fachstelle.antidiskriminierung.org
SUMMARY:Modul 2 Hochschulausbildung
DESCRIPTION:Dies ist eine geschlossene Veranstaltung für Teilnehmende der Hochschulausbildung
URL:https://fachstelle.antidiskriminierung.org/veranstaltung/modul-2-hochschulausbildung/
LOCATION:Online
CATEGORIES:online,Workshop
END:VEVENT
BEGIN:VEVENT
DTSTART;TZID=Europe/Berlin:20240624T000000
DTEND;TZID=Europe/Berlin:20240627T000000
DTSTAMP:20260422T070352
CREATED:20240711T214425Z
LAST-MODIFIED:20240711T214425Z
UID:10000265-1719187200-1719446400@fachstelle.antidiskriminierung.org
SUMMARY:Modul 2/3 Grundausbildung
DESCRIPTION:
URL:https://fachstelle.antidiskriminierung.org/veranstaltung/modul-2-3-grundausbildung/
LOCATION:“Meeet” Berlin-Mitte
END:VEVENT
BEGIN:VEVENT
DTSTART;TZID=Europe/Berlin:20240628T000000
DTEND;TZID=Europe/Berlin:20240628T000000
DTSTAMP:20260422T070352
CREATED:20240711T214526Z
LAST-MODIFIED:20240711T214526Z
UID:10000313-1719532800-1719532800@fachstelle.antidiskriminierung.org
SUMMARY:KFB-MS 2 Kollegiale Austausch
DESCRIPTION:KFA Thema Strukturaufbau (alle Verbände)
URL:https://fachstelle.antidiskriminierung.org/veranstaltung/kfb-ms-2-kollegiale-austausch/
LOCATION:Online
END:VEVENT
END:VCALENDAR