BEGIN:VCALENDAR
VERSION:2.0
PRODID:-//Fachstelle Antidiskriminierungsberatung - ECPv6.15.20//NONSGML v1.0//EN
CALSCALE:GREGORIAN
METHOD:PUBLISH
X-ORIGINAL-URL:https://fachstelle.antidiskriminierung.org
X-WR-CALDESC:Veranstaltungen für Fachstelle Antidiskriminierungsberatung
REFRESH-INTERVAL;VALUE=DURATION:PT1H
X-Robots-Tag:noindex
X-PUBLISHED-TTL:PT1H
BEGIN:VTIMEZONE
TZID:Europe/Berlin
BEGIN:DAYLIGHT
TZOFFSETFROM:+0100
TZOFFSETTO:+0200
TZNAME:CEST
DTSTART:20230326T010000
END:DAYLIGHT
BEGIN:STANDARD
TZOFFSETFROM:+0200
TZOFFSETTO:+0100
TZNAME:CET
DTSTART:20231029T010000
END:STANDARD
BEGIN:DAYLIGHT
TZOFFSETFROM:+0100
TZOFFSETTO:+0200
TZNAME:CEST
DTSTART:20240331T010000
END:DAYLIGHT
BEGIN:STANDARD
TZOFFSETFROM:+0200
TZOFFSETTO:+0100
TZNAME:CET
DTSTART:20241027T010000
END:STANDARD
BEGIN:DAYLIGHT
TZOFFSETFROM:+0100
TZOFFSETTO:+0200
TZNAME:CEST
DTSTART:20250330T010000
END:DAYLIGHT
BEGIN:STANDARD
TZOFFSETFROM:+0200
TZOFFSETTO:+0100
TZNAME:CET
DTSTART:20251026T010000
END:STANDARD
END:VTIMEZONE
BEGIN:VEVENT
DTSTART;TZID=Europe/Berlin:20240403T000000
DTEND;TZID=Europe/Berlin:20240403T000000
DTSTAMP:20260422T102654
CREATED:20240711T214506Z
LAST-MODIFIED:20240711T214506Z
UID:10000296-1712102400-1712102400@fachstelle.antidiskriminierung.org
SUMMARY:M2 Vertiefung zu Beratungsprozess und Auftragsklärung
DESCRIPTION:Modul mit Antirassismus-Berater*innen (WeAct von NeMo)
URL:https://fachstelle.antidiskriminierung.org/veranstaltung/m2-vertiefung-zu-beratungsprozess-und-auftragsklaerung/
LOCATION:Online
END:VEVENT
BEGIN:VEVENT
DTSTART;TZID=Europe/Berlin:20240405T000000
DTEND;TZID=Europe/Berlin:20240405T000000
DTSTAMP:20260422T102654
CREATED:20240711T214507Z
LAST-MODIFIED:20240711T214507Z
UID:10000297-1712275200-1712275200@fachstelle.antidiskriminierung.org
SUMMARY:KFB1 Kollegiale Fallberatung
DESCRIPTION:KFB mit Antirassismus-Berater*innen (WeAct von NeMo)
URL:https://fachstelle.antidiskriminierung.org/veranstaltung/kfb1-kollegiale-fallberatung/
LOCATION:Online
END:VEVENT
BEGIN:VEVENT
DTSTART;TZID=Europe/Berlin:20240415T000000
DTEND;TZID=Europe/Berlin:20240416T000000
DTSTAMP:20260422T102654
CREATED:20240711T214507Z
LAST-MODIFIED:20240808T133009Z
UID:10000298-1713139200-1713225600@fachstelle.antidiskriminierung.org
SUMMARY:Positionalität/ CbB-Selbstfürsorge und Grenzen setzen
DESCRIPTION:Modul mit Antirassismus-Berater*innen (Community Plus von BKMO)
URL:https://fachstelle.antidiskriminierung.org/veranstaltung/m2-positionalitaet-cbb-selbstfuersorge-und-grenzen-setzen/
LOCATION:Fulda
END:VEVENT
BEGIN:VEVENT
DTSTART;TZID=Europe/Berlin:20240417T000000
DTEND;TZID=Europe/Berlin:20240417T000000
DTSTAMP:20260422T102654
CREATED:20240711T214507Z
LAST-MODIFIED:20240711T214507Z
UID:10000299-1713312000-1713312000@fachstelle.antidiskriminierung.org
SUMMARY:KFB 1 Praxis Positionierung/mehr Selfcare
DESCRIPTION:KFB mit Antirassismus-Berater*innen (AntiRaktiv von DaMost)
URL:https://fachstelle.antidiskriminierung.org/veranstaltung/kfb-1-praxis-positionierung-mehr-selfcare/
LOCATION:Online
END:VEVENT
BEGIN:VEVENT
DTSTART;TZID=Europe/Berlin:20240424T000000
DTEND;TZID=Europe/Berlin:20240424T000000
DTSTAMP:20260422T102654
CREATED:20240711T214514Z
LAST-MODIFIED:20240711T214514Z
UID:10000300-1713916800-1713916800@fachstelle.antidiskriminierung.org
SUMMARY:M2 Beschwerdebrief
DESCRIPTION:Modul mit Antirassismus-Berater*innen (AntiRaktiv von DaMost)
URL:https://fachstelle.antidiskriminierung.org/veranstaltung/m2-beschwerdebrief/
LOCATION:Online
END:VEVENT
BEGIN:VEVENT
DTSTART;TZID=Europe/Berlin:20240425T000000
DTEND;TZID=Europe/Berlin:20240425T000000
DTSTAMP:20260422T102654
CREATED:20240711T214514Z
LAST-MODIFIED:20240711T214514Z
UID:10000301-1714003200-1714003200@fachstelle.antidiskriminierung.org
SUMMARY:KFB 2 Praxis Beschwedebrief
DESCRIPTION:KFB mit Antirassismus-Berater*innen (AntiRaktiv von DaMost)
URL:https://fachstelle.antidiskriminierung.org/veranstaltung/kfb-2-praxis-beschwedebrief/
LOCATION:Online
END:VEVENT
BEGIN:VEVENT
DTSTART;TZID=Europe/Berlin:20240430T000000
DTEND;TZID=Europe/Berlin:20240430T000000
DTSTAMP:20260422T102654
CREATED:20240711T214514Z
LAST-MODIFIED:20240711T214514Z
UID:10000302-1714435200-1714435200@fachstelle.antidiskriminierung.org
SUMMARY:KFB-M2 Kollegiale Fallberatung
DESCRIPTION:KFB mit Antirassismus-Berater*innen (Community Plus von BKMO)
URL:https://fachstelle.antidiskriminierung.org/veranstaltung/kfb-m2-kollegiale-fallberatung/
LOCATION:Online
END:VEVENT
END:VCALENDAR