BEGIN:VCALENDAR
VERSION:2.0
PRODID:-//Fachstelle Antidiskriminierungsberatung - ECPv6.15.20//NONSGML v1.0//EN
CALSCALE:GREGORIAN
METHOD:PUBLISH
X-ORIGINAL-URL:https://fachstelle.antidiskriminierung.org
X-WR-CALDESC:Veranstaltungen für Fachstelle Antidiskriminierungsberatung
REFRESH-INTERVAL;VALUE=DURATION:PT1H
X-Robots-Tag:noindex
X-PUBLISHED-TTL:PT1H
BEGIN:VTIMEZONE
TZID:Europe/Berlin
BEGIN:DAYLIGHT
TZOFFSETFROM:+0100
TZOFFSETTO:+0200
TZNAME:CEST
DTSTART:20230326T010000
END:DAYLIGHT
BEGIN:STANDARD
TZOFFSETFROM:+0200
TZOFFSETTO:+0100
TZNAME:CET
DTSTART:20231029T010000
END:STANDARD
BEGIN:DAYLIGHT
TZOFFSETFROM:+0100
TZOFFSETTO:+0200
TZNAME:CEST
DTSTART:20240331T010000
END:DAYLIGHT
BEGIN:STANDARD
TZOFFSETFROM:+0200
TZOFFSETTO:+0100
TZNAME:CET
DTSTART:20241027T010000
END:STANDARD
BEGIN:DAYLIGHT
TZOFFSETFROM:+0100
TZOFFSETTO:+0200
TZNAME:CEST
DTSTART:20250330T010000
END:DAYLIGHT
BEGIN:STANDARD
TZOFFSETFROM:+0200
TZOFFSETTO:+0100
TZNAME:CET
DTSTART:20251026T010000
END:STANDARD
END:VTIMEZONE
BEGIN:VEVENT
DTSTART;TZID=Europe/Berlin:20240314T000000
DTEND;TZID=Europe/Berlin:20240315T000000
DTSTAMP:20260422T120222
CREATED:20240711T214505Z
LAST-MODIFIED:20240711T214505Z
UID:10000294-1710374400-1710460800@fachstelle.antidiskriminierung.org
SUMMARY:M1 Selbstfürsorge/Grenzen setzen
DESCRIPTION:Modul mit Antirassismus-Berater*innen (WeAct von NeMo)
URL:https://fachstelle.antidiskriminierung.org/veranstaltung/m1-selbstfuersorge-grenzen-setzen/
LOCATION:Online
END:VEVENT
BEGIN:VEVENT
DTSTART;TZID=Europe/Berlin:20240320T000000
DTEND;TZID=Europe/Berlin:20240321T000000
DTSTAMP:20260422T120222
CREATED:20240711T214506Z
LAST-MODIFIED:20240711T214506Z
UID:10000295-1710892800-1710979200@fachstelle.antidiskriminierung.org
SUMMARY:M1 Diskriminierungsverständnis
DESCRIPTION:Modul mit Antirassismus-Berater*innen (Community Plus von BKMO)
URL:https://fachstelle.antidiskriminierung.org/veranstaltung/m1-diskriminierungsverstaendnis/
LOCATION:Hannover
END:VEVENT
END:VCALENDAR