BEGIN:VCALENDAR
VERSION:2.0
PRODID:-//Fachstelle Antidiskriminierungsberatung - ECPv6.15.20//NONSGML v1.0//EN
CALSCALE:GREGORIAN
METHOD:PUBLISH
X-WR-CALNAME:Fachstelle Antidiskriminierungsberatung
X-ORIGINAL-URL:https://fachstelle.antidiskriminierung.org
X-WR-CALDESC:Veranstaltungen für Fachstelle Antidiskriminierungsberatung
REFRESH-INTERVAL;VALUE=DURATION:PT1H
X-Robots-Tag:noindex
X-PUBLISHED-TTL:PT1H
BEGIN:VTIMEZONE
TZID:Europe/Berlin
BEGIN:DAYLIGHT
TZOFFSETFROM:+0100
TZOFFSETTO:+0200
TZNAME:CEST
DTSTART:20230326T010000
END:DAYLIGHT
BEGIN:STANDARD
TZOFFSETFROM:+0200
TZOFFSETTO:+0100
TZNAME:CET
DTSTART:20231029T010000
END:STANDARD
BEGIN:DAYLIGHT
TZOFFSETFROM:+0100
TZOFFSETTO:+0200
TZNAME:CEST
DTSTART:20240331T010000
END:DAYLIGHT
BEGIN:STANDARD
TZOFFSETFROM:+0200
TZOFFSETTO:+0100
TZNAME:CET
DTSTART:20241027T010000
END:STANDARD
BEGIN:DAYLIGHT
TZOFFSETFROM:+0100
TZOFFSETTO:+0200
TZNAME:CEST
DTSTART:20250330T010000
END:DAYLIGHT
BEGIN:STANDARD
TZOFFSETFROM:+0200
TZOFFSETTO:+0100
TZNAME:CET
DTSTART:20251026T010000
END:STANDARD
END:VTIMEZONE
BEGIN:VEVENT
DTSTART;TZID=Europe/Berlin:20241128T090000
DTEND;TZID=Europe/Berlin:20241128T120000
DTSTAMP:20260421T224026
CREATED:20240711T214459Z
LAST-MODIFIED:20240711T214459Z
UID:10000285-1732784400-1732795200@fachstelle.antidiskriminierung.org
SUMMARY:Kollegiale Fallaustauschreihe für AD-Beratungen an Hochschulen: Offener Austausch und Fallbesprechung
DESCRIPTION:Dies ist eine offene Veranstaltung für AD-Berater*innen an Hochschulen
URL:https://fachstelle.antidiskriminierung.org/veranstaltung/kollegiale-fallaustauschreihe-fuer-ad-beratungen-an-hochschulen-offener-austausch-und-fallbesprechung/
LOCATION:Online
CATEGORIES:Workshop,online,kostenlos
END:VEVENT
END:VCALENDAR