BEGIN:VCALENDAR
VERSION:2.0
PRODID:-//Fachstelle Antidiskriminierungsberatung - ECPv6.15.20//NONSGML v1.0//EN
CALSCALE:GREGORIAN
METHOD:PUBLISH
X-ORIGINAL-URL:https://fachstelle.antidiskriminierung.org
X-WR-CALDESC:Veranstaltungen für Fachstelle Antidiskriminierungsberatung
REFRESH-INTERVAL;VALUE=DURATION:PT1H
X-Robots-Tag:noindex
X-PUBLISHED-TTL:PT1H
BEGIN:VTIMEZONE
TZID:Europe/Berlin
BEGIN:DAYLIGHT
TZOFFSETFROM:+0100
TZOFFSETTO:+0200
TZNAME:CEST
DTSTART:20230326T010000
END:DAYLIGHT
BEGIN:STANDARD
TZOFFSETFROM:+0200
TZOFFSETTO:+0100
TZNAME:CET
DTSTART:20231029T010000
END:STANDARD
BEGIN:DAYLIGHT
TZOFFSETFROM:+0100
TZOFFSETTO:+0200
TZNAME:CEST
DTSTART:20240331T010000
END:DAYLIGHT
BEGIN:STANDARD
TZOFFSETFROM:+0200
TZOFFSETTO:+0100
TZNAME:CET
DTSTART:20241027T010000
END:STANDARD
BEGIN:DAYLIGHT
TZOFFSETFROM:+0100
TZOFFSETTO:+0200
TZNAME:CEST
DTSTART:20250330T010000
END:DAYLIGHT
BEGIN:STANDARD
TZOFFSETFROM:+0200
TZOFFSETTO:+0100
TZNAME:CET
DTSTART:20251026T010000
END:STANDARD
END:VTIMEZONE
BEGIN:VEVENT
DTSTART;TZID=Europe/Berlin:20241113T090000
DTEND;TZID=Europe/Berlin:20241113T170000
DTSTAMP:20260422T001503
CREATED:20240711T214550Z
LAST-MODIFIED:20240808T101512Z
UID:10000328-1731488400-1731517200@fachstelle.antidiskriminierung.org
SUMMARY:KFB-M6a Kollegiale Fallberatung
DESCRIPTION:KFB mit Antirassismus-Berater*innen (Community Plus von BKMO)
URL:https://fachstelle.antidiskriminierung.org/veranstaltung/kfb-m6a-kollegiale-fallberatung/
LOCATION:Online
CATEGORIES:Workshop,online,kostenlos
END:VEVENT
BEGIN:VEVENT
DTSTART;TZID=Europe/Berlin:20241113T090000
DTEND;TZID=Europe/Berlin:20241113T170000
DTSTAMP:20260422T001503
CREATED:20240729T130657Z
LAST-MODIFIED:20240808T133116Z
UID:10000340-1731488400-1731517200@fachstelle.antidiskriminierung.org
SUMMARY:Außergerichtliche Interventionen I (Beschwerdebrief) und Kollegiale Fallberatung
DESCRIPTION:Bevor es das AGG gab\, haben Stellen für Antidiskriminierungsberatung sowie Community-Organisationen auch ohne den Klageweg versucht auf kreativste Art und Weise Menschen zu unterstützen\, wenn sie von Diskriminierung betroffen sind. Das Modul “Außergerichtliche Interventionen I” für Community-basierte Berater*innen bietet einen Überblick über typische Interventionen in der Antidiskriminierungsberatung\, die sich nicht auf dem Klageweg beziehen. Dabei wird auf die Einbeziehung und Zusammenarbeit mit Community-Interventionen eingegangen\, um effektive und unterstützende Maßnahmen zu entwickeln. Teilnehmende erhalten einen Reflexionsrahmen für die Nutzung außergerichtlicher Interventionsformen\, der es ihnen ermöglicht\, Interventionen gezielt einzusetzen und deren Auswirkungen kritisch zu analysieren. Ein besonderer Schwerpunkt dieses Moduls liegt auf der Einführung in die Interventionsform des Beschwerdebriefs\, ein der am häufigsten eingesetzten Interventionen\, der nach Bedarf mit anderen Interventionsformen zusammengesetzt werden kann.
URL:https://fachstelle.antidiskriminierung.org/veranstaltung/m6a-aussergerichtliche-interventionen-i-beschwerdebrief-und-kfb-m6a/
CATEGORIES:Workshop,online,kostenlos
END:VEVENT
END:VCALENDAR