BEGIN:VCALENDAR
VERSION:2.0
PRODID:-//Fachstelle Antidiskriminierungsberatung - ECPv6.15.20//NONSGML v1.0//EN
CALSCALE:GREGORIAN
METHOD:PUBLISH
X-WR-CALNAME:Fachstelle Antidiskriminierungsberatung
X-ORIGINAL-URL:https://fachstelle.antidiskriminierung.org
X-WR-CALDESC:Veranstaltungen für Fachstelle Antidiskriminierungsberatung
REFRESH-INTERVAL;VALUE=DURATION:PT1H
X-Robots-Tag:noindex
X-PUBLISHED-TTL:PT1H
BEGIN:VTIMEZONE
TZID:Europe/Berlin
BEGIN:DAYLIGHT
TZOFFSETFROM:+0100
TZOFFSETTO:+0200
TZNAME:CEST
DTSTART:20230326T010000
END:DAYLIGHT
BEGIN:STANDARD
TZOFFSETFROM:+0200
TZOFFSETTO:+0100
TZNAME:CET
DTSTART:20231029T010000
END:STANDARD
BEGIN:DAYLIGHT
TZOFFSETFROM:+0100
TZOFFSETTO:+0200
TZNAME:CEST
DTSTART:20240331T010000
END:DAYLIGHT
BEGIN:STANDARD
TZOFFSETFROM:+0200
TZOFFSETTO:+0100
TZNAME:CET
DTSTART:20241027T010000
END:STANDARD
BEGIN:DAYLIGHT
TZOFFSETFROM:+0100
TZOFFSETTO:+0200
TZNAME:CEST
DTSTART:20250330T010000
END:DAYLIGHT
BEGIN:STANDARD
TZOFFSETFROM:+0200
TZOFFSETTO:+0100
TZNAME:CET
DTSTART:20251026T010000
END:STANDARD
END:VTIMEZONE
BEGIN:VEVENT
DTSTART;TZID=Europe/Berlin:20241111T150000
DTEND;TZID=Europe/Berlin:20241111T200000
DTSTAMP:20260422T001455
CREATED:20241016T094436Z
LAST-MODIFIED:20241016T094436Z
UID:10000355-1731337200-1731355200@fachstelle.antidiskriminierung.org
SUMMARY:SCHULE MACHT GESELLSCHAFT - Für eine rassismuskritische Schule
DESCRIPTION:Rassismus gehört für viele Kinder\, Jugendliche\, Eltern und Lehrkräfte zum Schulalltag. Oft werden rassistische Verhaltensweisen und Strukturen im Schulkontext nicht benannt\, sondern verharmlost oder geleugnet. Um gleichberechtigte Bildung für alle zu ermöglichen\, muss das System Schule rassismuskritisch weiterentwickelt werden.\nMigrant*innenselbstorganisationen (MSO)\, Vereine und engagierte Menschen leisten bereits wichtige Beiträge zum Abbau von Rassismus. Rassistische Praktiken und Strukturen müssen benannt werden\, damit eine inklusive rassismuskritische Lernumgebung geschaffen werden kann.\nMit diesem Fachtag werden wir rassistische Diskriminierung im Kontext von Bildung exemplarisch sichtbar machen und herausarbeiten\, welche Veränderungen aus migrantischer Perspektive nötig sind\, damit rassismuskritisches Handeln am Lernort Schule gelingen kann.\nDer Fachtag zielt darauf ab\, für Rassismus in Schule zu sensibilisieren\, individuelle und strukturelle Lösungsansätze zu entwickeln und die Grundlage für den Aufbau wirksamer Antidiskriminierungsstrukturen in und um Schulen herum zu entwickeln und zu vertiefen. \nDie Fachtagung richtet sich an Vertreter*innen der Zivilgesellschaft\, darunter MSOs\, Eltern\, Schulpersonal sowie Verwaltung und Politik. Durch gemeinsame Strategiegespräche möchten wir die Grundlage für den Aufbau wirksamer Antidiskriminierungsstrukturen in und um Schulen herum vertiefen.
URL:https://fachstelle.antidiskriminierung.org/veranstaltung/schule-macht-gesellschaft-fuer-eine-rassismuskritische-schule/
LOCATION:Pavillon Hannover\, Lister Meile 4\, Hannover\, Niedersachsen\, 30161\, Germany
ATTACH;FMTTYPE=image/jpeg:https://fachstelle.antidiskriminierung.org/wp-content/uploads/2024/10/Sharepic-1.jpeg
ORGANIZER;CN="Arbeitsgemeinschaft Migrant*innen und Fl%C3%BCchtlinge in Niedersachsen (amfn) e.V.":MAILTO:cristina.antonelli@amfn.de
END:VEVENT
END:VCALENDAR