BEGIN:VCALENDAR
VERSION:2.0
PRODID:-//Fachstelle Antidiskriminierungsberatung - ECPv6.15.20//NONSGML v1.0//EN
CALSCALE:GREGORIAN
METHOD:PUBLISH
X-WR-CALNAME:Fachstelle Antidiskriminierungsberatung
X-ORIGINAL-URL:https://fachstelle.antidiskriminierung.org
X-WR-CALDESC:Veranstaltungen für Fachstelle Antidiskriminierungsberatung
REFRESH-INTERVAL;VALUE=DURATION:PT1H
X-Robots-Tag:noindex
X-PUBLISHED-TTL:PT1H
BEGIN:VTIMEZONE
TZID:Europe/Berlin
BEGIN:DAYLIGHT
TZOFFSETFROM:+0100
TZOFFSETTO:+0200
TZNAME:CEST
DTSTART:20230326T010000
END:DAYLIGHT
BEGIN:STANDARD
TZOFFSETFROM:+0200
TZOFFSETTO:+0100
TZNAME:CET
DTSTART:20231029T010000
END:STANDARD
BEGIN:DAYLIGHT
TZOFFSETFROM:+0100
TZOFFSETTO:+0200
TZNAME:CEST
DTSTART:20240331T010000
END:DAYLIGHT
BEGIN:STANDARD
TZOFFSETFROM:+0200
TZOFFSETTO:+0100
TZNAME:CET
DTSTART:20241027T010000
END:STANDARD
BEGIN:DAYLIGHT
TZOFFSETFROM:+0100
TZOFFSETTO:+0200
TZNAME:CEST
DTSTART:20250330T010000
END:DAYLIGHT
BEGIN:STANDARD
TZOFFSETFROM:+0200
TZOFFSETTO:+0100
TZNAME:CET
DTSTART:20251026T010000
END:STANDARD
END:VTIMEZONE
BEGIN:VEVENT
DTSTART;TZID=Europe/Berlin:20241030T090000
DTEND;TZID=Europe/Berlin:20241030T130000
DTSTAMP:20260422T014155
CREATED:20240711T214550Z
LAST-MODIFIED:20240729T125733Z
UID:10000325-1730278800-1730293200@fachstelle.antidiskriminierung.org
SUMMARY:M5b Kollegiale Fallberatung
DESCRIPTION:Die Methode der Kollegiale Fallberatung ist eine strukturierte Beratungsgespräch\, was darauf abzielt\, konkrete Probleme oder Frage des Berufsalltags lösungsorientiert unter Kolleg*innen zu besprechen. Dabei können für konkrete Fälle und herausfordernde Situationen Interventionsmöglichkeiten gemeinsam überlegt und Lösungen entwickelt werden.\nIhr seid daher dazu herzlich eingeladen\, konkrete oder auch grundsätzlichen Themen aus der Beratungsarbeit oder im Community-Kontext mitzubringen. Dies können Beratungsfälle\, Problemlagen oder auch andere berufliche Situationen\, die euch aktuell beschäftigen. In den kleinen Gruppen wollen wir auf Probleme\, Herausforderungen und auch Erfolge aus der Beratungsarbeit intensiver und tiefer reingehen.
URL:https://fachstelle.antidiskriminierung.org/veranstaltung/kfb-m5b-kollegiale-fallberatung/
LOCATION:Online
CATEGORIES:Workshop,online,kostenlos
END:VEVENT
END:VCALENDAR