BEGIN:VCALENDAR
VERSION:2.0
PRODID:-//Fachstelle Antidiskriminierungsberatung - ECPv6.15.20//NONSGML v1.0//EN
CALSCALE:GREGORIAN
METHOD:PUBLISH
X-WR-CALNAME:Fachstelle Antidiskriminierungsberatung
X-ORIGINAL-URL:https://fachstelle.antidiskriminierung.org
X-WR-CALDESC:Veranstaltungen für Fachstelle Antidiskriminierungsberatung
REFRESH-INTERVAL;VALUE=DURATION:PT1H
X-Robots-Tag:noindex
X-PUBLISHED-TTL:PT1H
BEGIN:VTIMEZONE
TZID:Europe/Berlin
BEGIN:DAYLIGHT
TZOFFSETFROM:+0100
TZOFFSETTO:+0200
TZNAME:CEST
DTSTART:20230326T010000
END:DAYLIGHT
BEGIN:STANDARD
TZOFFSETFROM:+0200
TZOFFSETTO:+0100
TZNAME:CET
DTSTART:20231029T010000
END:STANDARD
BEGIN:DAYLIGHT
TZOFFSETFROM:+0100
TZOFFSETTO:+0200
TZNAME:CEST
DTSTART:20240331T010000
END:DAYLIGHT
BEGIN:STANDARD
TZOFFSETFROM:+0200
TZOFFSETTO:+0100
TZNAME:CET
DTSTART:20241027T010000
END:STANDARD
BEGIN:DAYLIGHT
TZOFFSETFROM:+0100
TZOFFSETTO:+0200
TZNAME:CEST
DTSTART:20250330T010000
END:DAYLIGHT
BEGIN:STANDARD
TZOFFSETFROM:+0200
TZOFFSETTO:+0100
TZNAME:CET
DTSTART:20251026T010000
END:STANDARD
END:VTIMEZONE
BEGIN:VEVENT
DTSTART;TZID=Europe/Berlin:20241017T120000
DTEND;TZID=Europe/Berlin:20241017T150000
DTSTAMP:20260422T014947
CREATED:20240711T214456Z
LAST-MODIFIED:20240711T214456Z
UID:10000283-1729166400-1729177200@fachstelle.antidiskriminierung.org
SUMMARY:Kollegiale Fallaustauschreihe für AD-Beratungen an Hochschulen:  Austausch von Berater*innen of Color und Berater*innen\, die von Rassismus / Antisemitismus betroffen sind
DESCRIPTION:Dies ist eine offene Veranstaltung für AD-Berater*innen an Hochschulen
URL:https://fachstelle.antidiskriminierung.org/veranstaltung/kollegiale-fallaustauschreihe-fuer-ad-beratungen-an-hochschulen-austausch-von-beraterinnen-of-color-und-beraterinnen-die-von-rassismus-antisemitismus-betroffen-sind/
LOCATION:Online
CATEGORIES:online,kostenlos,Workshop
END:VEVENT
END:VCALENDAR