BEGIN:VCALENDAR
VERSION:2.0
PRODID:-//Fachstelle Antidiskriminierungsberatung - ECPv6.15.20//NONSGML v1.0//EN
CALSCALE:GREGORIAN
METHOD:PUBLISH
X-ORIGINAL-URL:https://fachstelle.antidiskriminierung.org
X-WR-CALDESC:Veranstaltungen für Fachstelle Antidiskriminierungsberatung
REFRESH-INTERVAL;VALUE=DURATION:PT1H
X-Robots-Tag:noindex
X-PUBLISHED-TTL:PT1H
BEGIN:VTIMEZONE
TZID:Europe/Berlin
BEGIN:DAYLIGHT
TZOFFSETFROM:+0100
TZOFFSETTO:+0200
TZNAME:CEST
DTSTART:20230326T010000
END:DAYLIGHT
BEGIN:STANDARD
TZOFFSETFROM:+0200
TZOFFSETTO:+0100
TZNAME:CET
DTSTART:20231029T010000
END:STANDARD
BEGIN:DAYLIGHT
TZOFFSETFROM:+0100
TZOFFSETTO:+0200
TZNAME:CEST
DTSTART:20240331T010000
END:DAYLIGHT
BEGIN:STANDARD
TZOFFSETFROM:+0200
TZOFFSETTO:+0100
TZNAME:CET
DTSTART:20241027T010000
END:STANDARD
BEGIN:DAYLIGHT
TZOFFSETFROM:+0100
TZOFFSETTO:+0200
TZNAME:CEST
DTSTART:20250330T010000
END:DAYLIGHT
BEGIN:STANDARD
TZOFFSETFROM:+0200
TZOFFSETTO:+0100
TZNAME:CET
DTSTART:20251026T010000
END:STANDARD
END:VTIMEZONE
BEGIN:VEVENT
DTSTART;TZID=Europe/Berlin:20241015T133000
DTEND;TZID=Europe/Berlin:20241015T180000
DTSTAMP:20260422T014329
CREATED:20240917T081446Z
LAST-MODIFIED:20240917T081446Z
UID:10000351-1728999000-1729015200@fachstelle.antidiskriminierung.org
SUMMARY:Fachtag des advd: Zivilgesellschaftliches Lagebild Antidiskriminierung 2023
DESCRIPTION:Mit dem Lagebild Antidiskriminierung 2023 legt der Antidiskriminierungsverband Deutschland (advd) erstmals die Auswertung der Fallzahlen seiner Mitgliedsorganisationen aus dem Vorjahr vor. Bei unserer Veranstaltung am 15. Oktober (13:30 – 18:00 Uhr\, silent green\, Berlin) werden wir Ihnen die Ergebnisse unserer Analyse sowie unsere Publikation dazu vorstellen. Anschließend werden wir mit Fachexpert*innen die Entwicklungen\, ihre Konsequenzen und mögliche Handlungsoptionen diskutieren. Begrüßt werden wir von Ari Braun (Vorstandsmitglied des advd)\, Melanie Haas (Abteilungsleitung „Demokratie und Engagement“\, Bundesministerium für Familie\, Senioren\, Frauen und Jugend) und Nathalie Schlenzka (Referatsleitung Grundsatz und Forschung\, Antidiskriminierungsstelle des Bundes). \nDas komplette Programm mit weiteren Informationen\, inkl. zur Barrierefreiheit des Veranstaltungsortes\, steht für Sie weiter unten zum Download bereit. \nAnmeldung: \nSie können sich über diesen Link für die Veranstaltung registrieren. Bitte beachten Sie\, dass aufgrund begrenzter Teilnehmer*innenkapazitäten bei hoher Nachfrage nicht alle Anmeldungen berücksichtigt werden können und wir gegebenenfalls eine Auswahl treffen.
URL:https://fachstelle.antidiskriminierung.org/veranstaltung/fachtag-des-advd-zivilgesellschaftliches-lagebild-antidiskriminierung-2023/
LOCATION:silent green\, Gerichtsstraße 35\, Berlin\, 13347\, Germany
END:VEVENT
END:VCALENDAR