BEGIN:VCALENDAR
VERSION:2.0
PRODID:-//Fachstelle Antidiskriminierungsberatung - ECPv6.15.20//NONSGML v1.0//EN
CALSCALE:GREGORIAN
METHOD:PUBLISH
X-ORIGINAL-URL:https://fachstelle.antidiskriminierung.org
X-WR-CALDESC:Veranstaltungen für Fachstelle Antidiskriminierungsberatung
REFRESH-INTERVAL;VALUE=DURATION:PT1H
X-Robots-Tag:noindex
X-PUBLISHED-TTL:PT1H
BEGIN:VTIMEZONE
TZID:Europe/Berlin
BEGIN:DAYLIGHT
TZOFFSETFROM:+0100
TZOFFSETTO:+0200
TZNAME:CEST
DTSTART:20230326T010000
END:DAYLIGHT
BEGIN:STANDARD
TZOFFSETFROM:+0200
TZOFFSETTO:+0100
TZNAME:CET
DTSTART:20231029T010000
END:STANDARD
BEGIN:DAYLIGHT
TZOFFSETFROM:+0100
TZOFFSETTO:+0200
TZNAME:CEST
DTSTART:20240331T010000
END:DAYLIGHT
BEGIN:STANDARD
TZOFFSETFROM:+0200
TZOFFSETTO:+0100
TZNAME:CET
DTSTART:20241027T010000
END:STANDARD
BEGIN:DAYLIGHT
TZOFFSETFROM:+0100
TZOFFSETTO:+0200
TZNAME:CEST
DTSTART:20250330T010000
END:DAYLIGHT
BEGIN:STANDARD
TZOFFSETFROM:+0200
TZOFFSETTO:+0100
TZNAME:CET
DTSTART:20251026T010000
END:STANDARD
END:VTIMEZONE
BEGIN:VEVENT
DTSTART;TZID=Europe/Berlin:20241002T090000
DTEND;TZID=Europe/Berlin:20241002T160000
DTSTAMP:20260422T015028
CREATED:20240711T214541Z
LAST-MODIFIED:20240802T123919Z
UID:10000321-1727859600-1727884800@fachstelle.antidiskriminierung.org
SUMMARY:M5 AGG Vertiefung (leider ausgebucht)
DESCRIPTION:Das Modul “Recht: AGG-Plus” baut auf den Grundlagen des vorherigen Moduls auf und bietet eine anwendungsbezogene Vertiefung des Allgemeinen Gleichbehandlungsgesetzes (AGG) sowie eine Analyse aktueller Rechtsprechung und -entwicklungen. Ein Schwerpunkt liegt auf der Rollenklärung und der Kooperation zwischen Antidiskriminierungs-Berater*innen und Rechtsanwält*innen\, um eine effektive Unterstützung von Ratsuchenden zu gewährleisten. Die Teilnehmenden reflektieren die Relevanz und Anwendung des rechtlichen Diskriminierungsschutzes in der Beratung und erweitern ihre Fähigkeiten zur strategischen Planung und Umsetzung rechtlicher Interventionen. Durch praxisnahe Fallbeispiele und Übungen werden die Berater*innen befähigt\, ihre rechtliche Expertise gezielt einzusetzen und die Rechte ihrer Klient*innen effektiv zu verteidigen.
URL:https://fachstelle.antidiskriminierung.org/veranstaltung/m5-agg-vertiefung/
LOCATION:Online
CATEGORIES:online,kostenlos,Workshop
END:VEVENT
END:VCALENDAR