BEGIN:VCALENDAR
VERSION:2.0
PRODID:-//Fachstelle Antidiskriminierungsberatung - ECPv6.15.20//NONSGML v1.0//EN
CALSCALE:GREGORIAN
METHOD:PUBLISH
X-ORIGINAL-URL:https://fachstelle.antidiskriminierung.org
X-WR-CALDESC:Veranstaltungen für Fachstelle Antidiskriminierungsberatung
REFRESH-INTERVAL;VALUE=DURATION:PT1H
X-Robots-Tag:noindex
X-PUBLISHED-TTL:PT1H
BEGIN:VTIMEZONE
TZID:Europe/Berlin
BEGIN:DAYLIGHT
TZOFFSETFROM:+0100
TZOFFSETTO:+0200
TZNAME:CEST
DTSTART:20230326T010000
END:DAYLIGHT
BEGIN:STANDARD
TZOFFSETFROM:+0200
TZOFFSETTO:+0100
TZNAME:CET
DTSTART:20231029T010000
END:STANDARD
BEGIN:DAYLIGHT
TZOFFSETFROM:+0100
TZOFFSETTO:+0200
TZNAME:CEST
DTSTART:20240331T010000
END:DAYLIGHT
BEGIN:STANDARD
TZOFFSETFROM:+0200
TZOFFSETTO:+0100
TZNAME:CET
DTSTART:20241027T010000
END:STANDARD
BEGIN:DAYLIGHT
TZOFFSETFROM:+0100
TZOFFSETTO:+0200
TZNAME:CEST
DTSTART:20250330T010000
END:DAYLIGHT
BEGIN:STANDARD
TZOFFSETFROM:+0200
TZOFFSETTO:+0100
TZNAME:CET
DTSTART:20251026T010000
END:STANDARD
END:VTIMEZONE
BEGIN:VEVENT
DTSTART;TZID=Europe/Berlin:20240930T090000
DTEND;TZID=Europe/Berlin:20240930T170000
DTSTAMP:20260422T013705
CREATED:20240711T214541Z
LAST-MODIFIED:20240729T124943Z
UID:10000320-1727686800-1727715600@fachstelle.antidiskriminierung.org
SUMMARY:M5 Vertiefung Beschwerdebrief
DESCRIPTION:Das Beschwerdebrief ist ein flexibles Werkzeug\, was sehr häufig in der Antidiskriminierungsberatung verwendet wird. Dieser Modul baut auf dem advd-Modul “Außergerichtliche Interventionen I” auf und bietet eine Vertiefung der Skills\, die es einem unterstützt\, effektive Beschwerdebriefe zu schreiben.\nWir werden auch während des Workshops eigene Beschwerdebriefe analysieren\, sich gegenseitig Feedback geben und bearbeiten. Hierfür bitten wir euch einen Beschwerdebrief aus eurer eigenen Praxis mitzubringen\, wenn möglich als pdf-Datei. Bitte alle Namen im Beschwerdebrief anonymisieren oder rausstreichen. Falls du keine Beschwerdebriefe aus der eigenen Praxis mitbringen willst\, kannst du auch den fiktiven Beratungsfall im Anhang nehmen\, um einen Beschwerdebrief zu schreiben\, den du mitbringen kannst.
URL:https://fachstelle.antidiskriminierung.org/veranstaltung/m5-vertiefung-beschwerdebrief/
LOCATION:Online
CATEGORIES:online,kostenlos,Workshop
END:VEVENT
END:VCALENDAR