BEGIN:VCALENDAR
VERSION:2.0
PRODID:-//Fachstelle Antidiskriminierungsberatung - ECPv6.15.20//NONSGML v1.0//EN
CALSCALE:GREGORIAN
METHOD:PUBLISH
X-WR-CALNAME:Fachstelle Antidiskriminierungsberatung
X-ORIGINAL-URL:https://fachstelle.antidiskriminierung.org
X-WR-CALDESC:Veranstaltungen für Fachstelle Antidiskriminierungsberatung
REFRESH-INTERVAL;VALUE=DURATION:PT1H
X-Robots-Tag:noindex
X-PUBLISHED-TTL:PT1H
BEGIN:VTIMEZONE
TZID:Europe/Berlin
BEGIN:DAYLIGHT
TZOFFSETFROM:+0100
TZOFFSETTO:+0200
TZNAME:CEST
DTSTART:20230326T010000
END:DAYLIGHT
BEGIN:STANDARD
TZOFFSETFROM:+0200
TZOFFSETTO:+0100
TZNAME:CET
DTSTART:20231029T010000
END:STANDARD
BEGIN:DAYLIGHT
TZOFFSETFROM:+0100
TZOFFSETTO:+0200
TZNAME:CEST
DTSTART:20240331T010000
END:DAYLIGHT
BEGIN:STANDARD
TZOFFSETFROM:+0200
TZOFFSETTO:+0100
TZNAME:CET
DTSTART:20241027T010000
END:STANDARD
BEGIN:DAYLIGHT
TZOFFSETFROM:+0100
TZOFFSETTO:+0200
TZNAME:CEST
DTSTART:20250330T010000
END:DAYLIGHT
BEGIN:STANDARD
TZOFFSETFROM:+0200
TZOFFSETTO:+0100
TZNAME:CET
DTSTART:20251026T010000
END:STANDARD
END:VTIMEZONE
BEGIN:VEVENT
DTSTART;TZID=Europe/Berlin:20240905T000000
DTEND;TZID=Europe/Berlin:20240906T000000
DTSTAMP:20260422T033445
CREATED:20240711T214425Z
LAST-MODIFIED:20240729T094724Z
UID:10000266-1725494400-1725580800@fachstelle.antidiskriminierung.org
SUMMARY:Modul 4 der Grundausbildung
DESCRIPTION:Modul 4 der Grundausbildung. Dies ist eine geschlossene Veranstaltung für Teilnehmende der Grundausbildung.
URL:https://fachstelle.antidiskriminierung.org/veranstaltung/modul-4-der-grundausbildung/
LOCATION:Online
CATEGORIES:online,Modul
END:VEVENT
BEGIN:VEVENT
DTSTART;TZID=Europe/Berlin:20240905T000000
DTEND;TZID=Europe/Berlin:20240906T000000
DTSTAMP:20260422T033445
CREATED:20240711T214440Z
LAST-MODIFIED:20240711T214440Z
UID:10000276-1725494400-1725580800@fachstelle.antidiskriminierung.org
SUMMARY:Modul 3 Hochschulausbildung
DESCRIPTION:Dies ist eine geschlossene Veranstaltung für Teilnehmende der Hochschulausbildung
URL:https://fachstelle.antidiskriminierung.org/veranstaltung/modul-3-hochschulausbildung/
LOCATION:Alte-Feuerwache\, Berlin-Kreuzberg
CATEGORIES:Präsenzveranstaltung,Workshop
END:VEVENT
BEGIN:VEVENT
DTSTART;TZID=Europe/Berlin:20240905T140000
DTEND;TZID=Europe/Berlin:20240905T163000
DTSTAMP:20260422T033445
CREATED:20240903T082053Z
LAST-MODIFIED:20240903T082053Z
UID:10000349-1725544800-1725553800@fachstelle.antidiskriminierung.org
SUMMARY:Präsentation der Ergebnisse: Gute Praxis gegen Diskriminierung an Schulen
DESCRIPTION:Zur Präsentation und Diskussion der Ergebnisse des gleichnamigen Forschungsprojektes möchten wir Sie herzlich einladen: \n  \nDonnerstag\, den 5. September 2024 \nvon 14:00 bis 16:30 Uhr \nonline als Zoom-Videokonferenz \n  \nDie Autor*innen Andreas Foitzik\, Julia Kaiser und Sotiria Midelia diskutieren mit Ihnen und Expertinnen aus Praxis\, Beratung\, Bildungsforschung und Lehrer*innenfortbilung\, welche Ansätze wirkungsvoll sind\, um Diskriminierungen an Schulen vorzubeugen und abzubauen. Das Programm zur Veranstaltung finden Sie hier:  PROGRAMM \nBitte melden Sie sich mit Namen und Ihrer Organisation an.  \nDie Veranstaltung wird von Dolmetscher*innen der Deutsche Gebärdensprache begleitet.
URL:https://fachstelle.antidiskriminierung.org/veranstaltung/praesentation-der-ergebnisse-gute-praxis-gegen-diskriminierung-an-schulen/
LOCATION:Online
CATEGORIES:online,kostenlos
ORGANIZER;CN="ADS - Antidiskriminierungsstelle des Bundes":MAILTO:veranstaltungen@ads.bund.de
END:VEVENT
END:VCALENDAR