BEGIN:VCALENDAR
VERSION:2.0
PRODID:-//Fachstelle Antidiskriminierungsberatung - ECPv6.15.20//NONSGML v1.0//EN
CALSCALE:GREGORIAN
METHOD:PUBLISH
X-ORIGINAL-URL:https://fachstelle.antidiskriminierung.org
X-WR-CALDESC:Veranstaltungen für Fachstelle Antidiskriminierungsberatung
REFRESH-INTERVAL;VALUE=DURATION:PT1H
X-Robots-Tag:noindex
X-PUBLISHED-TTL:PT1H
BEGIN:VTIMEZONE
TZID:Europe/Berlin
BEGIN:DAYLIGHT
TZOFFSETFROM:+0100
TZOFFSETTO:+0200
TZNAME:CEST
DTSTART:20230326T010000
END:DAYLIGHT
BEGIN:STANDARD
TZOFFSETFROM:+0200
TZOFFSETTO:+0100
TZNAME:CET
DTSTART:20231029T010000
END:STANDARD
BEGIN:DAYLIGHT
TZOFFSETFROM:+0100
TZOFFSETTO:+0200
TZNAME:CEST
DTSTART:20240331T010000
END:DAYLIGHT
BEGIN:STANDARD
TZOFFSETFROM:+0200
TZOFFSETTO:+0100
TZNAME:CET
DTSTART:20241027T010000
END:STANDARD
BEGIN:DAYLIGHT
TZOFFSETFROM:+0100
TZOFFSETTO:+0200
TZNAME:CEST
DTSTART:20250330T010000
END:DAYLIGHT
BEGIN:STANDARD
TZOFFSETFROM:+0200
TZOFFSETTO:+0100
TZNAME:CET
DTSTART:20251026T010000
END:STANDARD
END:VTIMEZONE
BEGIN:VEVENT
DTSTART;TZID=Europe/Berlin:20240821T100000
DTEND;TZID=Europe/Berlin:20240821T120000
DTSTAMP:20260422T034451
CREATED:20240711T214422Z
LAST-MODIFIED:20240711T214422Z
UID:10000261-1724234400-1724241600@fachstelle.antidiskriminierung.org
SUMMARY:Online-Vortragsreihe AGG-Reform- Teil 6: Beyond AGG
DESCRIPTION:Im Rahmen der Onlinevortragsreihe “Antidiskriminierung für Alle: Das Potenzial einer umfassenden AGG-Reform für mehr Chancengerechtigkeit und Teilhabe” vom 24.4.24-21.8.24\, haben wir uns die Forderungen für die Reform des Allgemeinen Gleichbehandlungsgesetzes (AGG) näher angeschaut\, die es aus der Zivilgesellschaft – vertreten durch das Bündnis AGG Reform – Jetzt! – gibt. Die Vorträge haben niedrigschwellig ins AGG und in die verschiedenen Kritikpunkte zum Gesetz eingeführt und anhand von Fallbeispielen aus der Praxis anschaulich gemacht. \nAuf unserer Abschlussveranstaltung “Beyond AGG-Reform” anlässlich des Jahrestags des Inkrafttretens des AGG am 18.08.24\, möchten wir uns darüber austauschen\, was es für weitere Maßnahmen – neben der Reform des AGG – braucht\, um Antidiskriminierung in die Praxis zu bringen. Dabei möchten wir uns gemeinsam mit Nathalie Schlenzka (Antidiskriminierunsstelle des Bundes) einerseits die Rolle und Wirkung von staatlichen Gleichbehandlungsstellen anschauen und im Besonderen die (Un)Möglichkeiten der Förderung von Antidiskriminierungsberatungsstellen und Unterstützung von Betroffenen diskutieren. Saraya Gomis wird uns von ihrer Erfahrung als ehemalige Staatssekretärin für Antidiskriminierung von Berlin über das Gelingen und Scheitern von Antidiskriminierungsprozessen in Institutionen berichten. Außerdem wird sie darauf eingehen\, was sie für institutionelle Rahmenbedingungen in ihrer Amtszeit gebraucht hätte\, um ihre Funktion voll erfüllen zu können. \nNathalie Schlenzka ist Referatsleiterin für Forschung und Grundsatz bei der Antidiskriminierungsstelle des Bundes\, für die sie seit 2011 tätig ist. In den letzten Jahren hat sie sich u.a. mit Fragen von Diskriminierung im Arbeitsleben und Bildungsbereich befasst. Auch beschäftigt sie sich für die ADS mit institutioneller Diskriminierung sowie Diskriminierungsrisiken im Kontext von ADM-Systemen. Zuvor war sie langjährig als wissenschaftliche Mitarbeiterin im Bereich der Migrations- und Integrationsforschung am Berliner Institut für Vergleichende Sozialforschung/Europäisches Migrationszentrum sowie der Alice Salomon Hochschule in Berlin tätig. Ihr Studium der Politikwissenschaft hat sie an der Freien Universität absolviert. \nSaraya Gomis ist Teilzeitstudentin und engagiert in Antidiskriminierungsarbeit
URL:https://fachstelle.antidiskriminierung.org/veranstaltung/online-vortragsreihe-agg-reform-teil-6-beyond-agg/
CATEGORIES:Vortrag,online,kostenlos
END:VEVENT
END:VCALENDAR