BEGIN:VCALENDAR
VERSION:2.0
PRODID:-//Fachstelle Antidiskriminierungsberatung - ECPv6.15.20//NONSGML v1.0//EN
CALSCALE:GREGORIAN
METHOD:PUBLISH
X-WR-CALNAME:Fachstelle Antidiskriminierungsberatung
X-ORIGINAL-URL:https://fachstelle.antidiskriminierung.org
X-WR-CALDESC:Veranstaltungen für Fachstelle Antidiskriminierungsberatung
REFRESH-INTERVAL;VALUE=DURATION:PT1H
X-Robots-Tag:noindex
X-PUBLISHED-TTL:PT1H
BEGIN:VTIMEZONE
TZID:Europe/Berlin
BEGIN:DAYLIGHT
TZOFFSETFROM:+0100
TZOFFSETTO:+0200
TZNAME:CEST
DTSTART:20230326T010000
END:DAYLIGHT
BEGIN:STANDARD
TZOFFSETFROM:+0200
TZOFFSETTO:+0100
TZNAME:CET
DTSTART:20231029T010000
END:STANDARD
BEGIN:DAYLIGHT
TZOFFSETFROM:+0100
TZOFFSETTO:+0200
TZNAME:CEST
DTSTART:20240331T010000
END:DAYLIGHT
BEGIN:STANDARD
TZOFFSETFROM:+0200
TZOFFSETTO:+0100
TZNAME:CET
DTSTART:20241027T010000
END:STANDARD
BEGIN:DAYLIGHT
TZOFFSETFROM:+0100
TZOFFSETTO:+0200
TZNAME:CEST
DTSTART:20250330T010000
END:DAYLIGHT
BEGIN:STANDARD
TZOFFSETFROM:+0200
TZOFFSETTO:+0100
TZNAME:CET
DTSTART:20251026T010000
END:STANDARD
END:VTIMEZONE
BEGIN:VEVENT
DTSTART;TZID=Europe/Berlin:20240522T100000
DTEND;TZID=Europe/Berlin:20240522T120000
DTSTAMP:20260422T102555
CREATED:20240711T214423Z
LAST-MODIFIED:20240711T214423Z
UID:10000262-1716372000-1716379200@fachstelle.antidiskriminierung.org
SUMMARY:Was bedeutet Intersektionalität?
DESCRIPTION:Auf unserer Abschlussveranstaltung “Beyond AGG-Reform” anlässlich des Jahrestags des Inkrafttretens des AGG am 18.08.24\, möchten wir uns darüber austauschen\, was es für weitere Maßnahmen – neben der Reform des AGG – braucht\, um Antidiskriminierung in die Praxis zu bringen. Dabei möchten wir uns gemeinsam mit Nathalie Schlenzka (Antidiskriminierunsstelle des Bundes) einerseits die Rolle und Wirkung von staatlichen Gleichbehandlungsstellen anschauen und im Besonderen die (Un)Möglichkeiten der Förderung von Antidiskriminierungsberatungsstellen und Unterstützung von Betroffenen diskutieren. Saraya Gomis wird uns von ihrer Erfahrung als ehemalige Staatssekretärin für Antidiskriminierung von Berlin über das Gelingen und Scheitern von Antidiskriminierungsprozessen in Institutionen berichten. Außerdem wird sie darauf eingehen\, was sie für institutionelle Rahmenbedingungen in ihrer Amtszeit gebraucht hätte\, um ihre Funktion voll erfüllen zu können.
URL:https://fachstelle.antidiskriminierung.org/veranstaltung/was-bedeutet-intersektionalitaet/
END:VEVENT
END:VCALENDAR